Workbook

Sheet Alphabetisch
A1: Vegan Protein Vergleich
B2: Veganes Protein | C2: Vegan Protein | D2: Vegan Protein | E2: Vegan 4K Protein | F2: Vegan 2K Protein | G2: RPI-85 | H2: Perfect Vegan Protein | I2: Vegan Protein | J2: Vegan Protein Matrix | K2: AllVegan Protein | L2: No Milk Vegan Protein | M2: Vegan Protein | N2: Plant Protein Superblend | O2: Clear Protein Superblend | P2: SoProtein Vegan | Q2: Vegan Protein | R2: Vegan 3K Protein | S2: Vegan 6K Protein | T2: Clear Vhey | U2: Vegan Crème de la Crème | V2: Fruity Vegan Protein | W2: Vegan Protein Isolat | X2: Yummy Vegan Protein | Y2: Vegan Protein | Z2: Soy 90+ | AA2: Vegan Protein 360 Platinum | AB2: Vegan Protein Gold | AC2: Vegan Protein Black | AD2: 100% Vegan Protein | AE2: Supreme 100% Vegan Protein | AF2: Vegetable Protein Freaking Good | AG2: Clear Protein | AH2: Protein Shake | AI2: Pro Protein | AJ2: Natural Protein | AK2: Daily Protein | AL2: Smartein | AM2: V Up-Powder | AN2: Vheygan Veganes Protein Veggy+ | AO2: Vegan Protein | AP2: Vegan Protein | AQ2: Clear Protein | AR2: Yummy Vegan Protein | AS2: Plant Based Protein | AT2: Vegan Connection | AU2: Almost Whey
A3: Marke | B3: 247 Nutrition | C3: ALL STARS | D3: Big Zone | E3: Bodybuilding Depot | F3: Bodybuilding Depot | G3: Bodybuilding Depot | H3: BODY IP | I3: Bodylab24 | J3: EVO SPORTS FUEL | K3: fayn. | L3: GN | M3: Inlead | N3: MyProtein | O3: MyProtein | P3: Natural Elements | Q3: Neosupps | R3: Nutri+ | S3: Nutri+ | T3: Nutri+ | U3: Overshield | V3: Peak | W3: Peak | X3: Peak | Y3: Powerstar Food | Z3: Powerstar Food | AA3: Protein Works | AB3: Protein Works | AC3: Protein Works | AD3: Prozis | AE3: Prozis | AF3: Prozis | AG3: Rocka Nutrition | AH3: Rocka Nutrition | AI3: Rocka Nutrition | AJ3: Rocka Nutrition | AK3: Rocka Nutrition | AL3: Smartein Protein | AM3: Schokamoli | AN3: #sinob | AO3: #sinob | AP3: vetain | AQ3: vetain | AR3: vit4ever | AS3: Weider | AT3: Zec+ | AU3: Zec+
A4: Preis | B4: 26.95 | C4: 18.99 | D4: 27.9 | E4: 29.9 | F4: 19.9 | G4: 24.9 | H4: 29.9 | I4: 36.99 | J4: 31.9 | K4: 27.9 | L4: 34.9 | M4: 19.95 | N4: 39.99 | O4: 40.99 | P4: 23.99 | Q4: 22.99 | R4: 32.9 | S4: 32.9 | T4: 24.99 | U4: 40 | V4: 24.9 | W4: 17.9 | X4: 16.9 | Y4: 24.9 | Z4: 19.99 | AA4: 18.39 | AB4: 15.49 | AC4: 15.79 | AD4: 21.99 | AE4: 24.99 | AF4: 19.99 | AG4: 29.99 | AH4: 37.99 | AI4: 39.99 | AJ4: 29.99 | AK4: 29.99 | AL4: 29.99 | AM4: 45.8 | AN4: 31.99 | AO4: 29.9 | AP4: 32.99 | AQ4: 36.99 | AR4: 31.99 | AS4: 19.99 | AT4: 23.9 | AU4: 24.9
A5: Größe | B5: 900 | C5: 300 | D5: 1000 | E5: 1000 | F5: 1000 | G5: 1000 | H5: 750 | I5: 1000 | J5: 800 | K5: 700 | L5: 1000 | M5: 500 | N5: 560 | O5: 480 | P5: 660 | Q5: 600 | R5: 1000 | S5: 1000 | T5: 400 | U5: 1000 | V5: 400 | W5: 750 | X5: 450 | Y5: 500 | Z5: 1000 | AA5: 1000 | AB5: 1000 | AC5: 1000 | AD5: 700 | AE5: 700 | AF5: 750 | AG5: 360 | AH5: 900 | AI5: 750 | AJ5: 600 | AK5: 1000 | AL5: 500 | AM5: 1000 | AN5: 900 | AO5: 910 | AP5: 540 | AQ5: 480 | AR5: 908 | AS5: 450 | AT5: 750 | AU5: 1000
A6: Preis pro kg | B6: {=B4/B5*1000} -> 29.944444 | C6: 50.63 | D6: 27.9 | E6: 29.9 | F6: {=F4/F5*1000} -> 19.9 | G6: {=G4/G5*1000} -> 24.9 | H6: {=H4/H5*1000} -> 39.866667 | I6: {=I4/I5*1000} -> 36.99 | J6: {=J4/J5*1000} -> 39.875 | K6: {=K4/K5*1000} -> 39.857143 | L6: {=L4/L5*1000} -> 34.9 | M6: {=M4/M5*1000} -> 39.9 | ... AU6: {=AU4/AU5*1000} -> 24.9
A7: Rabattcode (Standardrabatt) | B7: Felix (5%) | C7: Felix (10%) | D7: Felix10 (10%) | E7: Felix5 (5%) | F7: Felix5 (5%) | G7: Felix5 (5%) | H7: Felix (15%) | I7: FelixVegan (46%) | J7: Felix (10%) | K7: Felix (10%) | L7: Felix10 (10%) | M7: Felix (10%) | N7: Felix (10%) | O7: Felix (10%) | P7: Felix (10%) | Q7: Felix10 (10%) | R7: Felix (10%) | S7: Felix (10%) | T7: Felix (10%) | U7: Felix (25%) | V7: Felix10 (10%) | W7: Felix10 (10%) | X7: Felix10 (10%) | Y7: Felix (10%) | Z7: Felix (10%) | AA7: FelixPW (10%) | AB7: FelixPW (10%) | AC7: FelixPW (10%) | AD7: FitnessFoodCorner (10% + Goodies) | AE7: FitnessFoodCorner (10% + Goodies) | AF7: FitnessFoodCorner (10% + Goodies) | AG7: FitnessFoodCorner (10%) | AH7: FitnessFoodCorner (10%) | AI7: FitnessFoodCorner (10%) | AJ7: FitnessFoodCorner (10%) | AK7: FitnessFoodCorner (10%) | AL7: Keine Codes verfügbar | AM7: Felix (5%) | AN7: Felix (10%) | AO7: Felix10 (10%) | AP7: Felix (10%) | AQ7: Felix (10%) | AR7: Felix (10%) | AS7: Felix (10%) | AT7: FitnessFoodCorner (10%) | AU7: FitnessFoodCorner (10%)
A9: Realistischer Angebotspreis | B9: 16.23 | C9: 13.68 | D9: 22.32 | E9: 25.56 | F9: 17.01 | G9: 21.29 | H9: 25.42 | I9: 19.99 | J9: 25.52 | K9: 20.93 | L9: {=L4*0.75} -> 26.175 | M9: 14.36 | N9: 8.09 | O9: 21.59 | P9: 21.6 | Q9: 18.39 | R9: 26.32 | S9: 26.32 | T9: 19.99 | U9: 28 | V9: 19.92 | W9: 14.32 | X9: 13.52 | Y9: {=Y4*0.8} -> 19.92 | Z9: {=Z4*0.8} -> 15.992 | AA9: {=AA4*0.9} -> 16.551 | AB9: {=AB4*0.9} -> 13.941 | AC9: {=AC4*0.9} -> 14.211 | AD9: {=AD4*0.8} -> 17.592 | AE9: {=AE4*0.8} -> 19.992 | AF9: {=AF4*0.8} -> 15.992 | AG9: {=AG4*0.8} -> 23.992 | AH9: {=AH4*0.8} -> 30.392 | AI9: {=AI4*0.8} -> 31.992 | AJ9: {=AJ4*0.8} -> 23.992 | AK9: {=AK4*0.8} -> 23.992 | AL9: 29.99 | AM9: {=AM4*0.9} -> 41.22 | AN9: 26.99 | AO9: {=AO4*0.85} -> 25.415 | AP9: {=AP4*0.85} -> 28.0415 | AQ9: {=AQ4*0.85} -> 31.4415 | AR9: {=AR4*0.8} -> 25.592 | AS9: {=AS4*0.85} -> 16.9915 | AT9: {=AT4*0.85} -> 20.315 | AU9: 24.9
A10: Angebotspreis pro kg | B10: {=B9/B5*1000} -> 18.033333 | C10: {=C9/C5*1000} -> 45.6 | D10: {=D9/D5*1000} -> 22.32 | E10: {=E9/E5*1000} -> 25.56 | F10: {=F9/F5*1000} -> 17.01 | G10: {=G9/G5*1000} -> 21.29 | H10: {=H9/H5*1000} -> 33.893333 | I10: {=I9/I5*1000} -> 19.99 | ... AU10: {=AU9/AU5*1000} -> 24.9
A11: Häufigkeit des Angebots | B11: Dauerhaft (3er Pack) | C11: Oft | D11: Selten | E11: Selten | F11: Selten | G11: Selten | H11: k.A. | I11: Dauerhaft | J11: Gelegentlich | K11: Gelegentlich | L11: Häufig | M11: Gelegentlich | N11: Oft | O11: Oft | P11: Dauerhaft | Q11: Gelegentlich | R11: Gelegentlich | S11: Gelegentlich | T11: Gelegentlich | U11: Gelegentlich | V11: Selten | W11: Selten | X11: Selten | Y11: Gelegentlich | Z11: Gelegentlich | AA11: Dauerhaft | AB11: Dauerhaft | AC11: Dauerhaft | AD11: Häufig | AE11: Häufig | AF11: Häufig | AG11: Gelegentlich | AH11: Gelegentlich | AI11: Gelegentlich | AJ11: Gelegentlich | AK11: Gelegentlich | AL11: Nie | AM11: Selten | AN11: Häufig | AO11: Selten | AP11: Häufig | AQ11: Häufig | AR11: Gelegentlich | AS11: Gelegentlich | AT11: Gelegentlich | AU11: Keine
A13: Sorten | B13: 2 | C13: 2 | D13: 4 | E13: 4 | F13: 4 | G13: 4 | H13: 5 | I13: 19 | J13: 4 | K13: 5 (inkl. Matcha) | L13: 4 | M13: 7 | N13: 4 | O13: 3 | P13: 2 | Q13: 2 | R13: 23 | S13: 21 | T13: 3 | U13: 6 | V13: 6 | W13: 11 | X13: 7 | Y13: 6 | Z13: 8 | AA13: 11 | AB13: 6 | AC13: 5 | AD13: 4 | AE13: 3 | AF13: 6 | AG13: 3 | AH13: 12 | AI13: 1 | AJ13: 1 | AK13: 2 | AL13: 3 | AM13: 2 | AN13: 6 | AO13: 2 | AP13: 11 | AQ13: 8 | AR13: 8 | AS13: 2 | AT13: 4 | AU13: 2
A14: Zusammensetzung | B14: Ackerbohnenprotein (44%), Erbsenprotein (42%), Kürbiskernprotein (6%) | C14: Erbsenprotein (55%), Ackerbohnenprotein (35%), Kürbiskernprotein (6%) | D14: Reisprotein (56,8%), Erbsenprotein (30%), Lysin, Leucin, Isoleucin | E14: Reisprotein (40%), Kürbiskernprotein (30%), Mandelprotein (20%), Erdnussprotein (10%) | F14: Reisprotein (60%), Erdnussprotein (40%) | G14: Reisprotein | H14: Ackerbohnenprotein, Sojaproteinisolat, Erbsenproteinisolat, Sonnenblumenprotein | I14: Ackerbohnenprotein (44%), Erbsenprotein (42%), Kürbiskernprotein (6%) | J14: Ackerbohnenprotein, Erbsenproteinisolat, Reisprotein, Lysin, Valin, Isoleucin, Methionin, Threonin, Tryptophan | K14: Sojaproteinisolat (84,3%), Ackerbohnenprotein (6%), Erbsenproteinisolat (4%) | L14: Ackerbohneneiweiß, Erbseneiweiß, Reiseiweiß, Lysin, Leucin, Isoleucin, Valin, Methionin, Tryptophan | M14: Sojaproteinisolat (47%), Erbsenprotein (40%), Mandelprotein (2%), Ackerbohnenprotein (2%) | N14: Hydrolisiertes Gerstenprotein, hydrolisiertes Reisprotein | O14: Hydrolisiertes Gerstenprotein, hydrolisiertes Reisprotein | P14: Sojaeiweißisolat, Erbseneiweiß, Ackerbohneneiweißisolat | Q14: Erbsenprotein (77%), Reisprotein (9%), Kürbiskernprotein (4,5%) | R14: Sojaproteinisolat, Erbsenproteinisolat, Sonnenblumenprotein | S14: Sojaproteinisolat, Weizenprotein, Reisprotein, Erbsenproteinisolat, Sonnenblumenprotein, Mandelprotein | T14: Erbsenproteinhydrolisat (77,6%), Alanin, Isoleucin, Methionin, Tryptophan | U14: Ackerbohnenprotein, Reisprotein, Lysin, Leucin, Threonin, Valin, Methionin, Isoleucin, Tryptophan | V14: Hydrolisiertes Erbsenprotein, Leucin, Isoleucin, Valin (BCAA 15%), Methionin | W14: Reisproteinisolat (49%), Erbsenproteinisolat (49%) | X14: Kürbiskernprotein (32%), Ackerbohnenprotein (26,8%), Erbsenproteinisolat (26,8%), Mandelprotein (5,3%), Hanfprotein (5,3%) | Y14: Erbsenproteinisolat, Ackerbohnenprotein, Wassermelonenkernprotein, Kichererbsenprotein, Kürbiskernprotein | Z14: Sojaproteinisolat | AA14: Sojaproteinisolat, Erbsenproteinisolat, Kürbiskernprotein, Reisprotein | AB14: Sojaproteinisolat, Erbsenproteinisolat, Reisprotein | AC14: Sojaproteinisolat, Erbsenproteinisolat | AD14: Erbsenprotein, Reisprotein | AE14: Erbsenprotein, Reisprotein, Threonin, Lysin, Leucin, Isoleucin, Valin, Histidin | AF14: Erbsenprotein (45%), Reisprotein (30%), Sojaproteinisolat (19%) | AG14: Hydrolisiertes Erbsenprotein (92%) | AH14: Erbsenprotein, Sojaproteinisolat, Ackerbohnenprotein, Sonnenblumenkernmehl, Mandelmehl | AI14: Ackerbohnenprotein, Erbsenproteinisolat, Leucin, Valin, Isoleucin | AJ14: Sojaproteinisolat, Ackerbohnenprotein, Mandelprotein, Erbsenprotein | AK14: Sojaproteinisolat, Ackerbohnenprotein, Sonnenblumenprotein | AL14: Protein aus der Hefe Saccharomyces cerevisiae | AM14: Sojaproteinisolat, Leucin, Methionin | AN14: Erbsenproteinisolat (63,3%), Reisprotein (16,7%), Leucin, Isoleucin, Valin | AO14: Reisprotein (51,4%), Erbsenprotein (43,8%) | AP14: Erbsenprotein (50%), Ackerbohnenprotein (20%), Kürbiskernprotein (18%), Goldleinmehl (3%) | AQ14: Hydrolisiertes Erbsenprotein, L-Methionin, L-Histidin, L-Triptophan | AR14: Ackerbohnenprotein, Leucin, Isoleucin, Valin, Glutamin, Threonin, Methionin | AS14: Erbsenprotein (78,4%), Ackerbohnenprotein (10%), Reisprotein (5%) | AT14: Erbseneiweißisolat, Reiseiweiß | AU14: Erbsenprotein, Reisprotein, Leucin, Lysin, Valin, Methionin, Isoleucin, Threonin
A15: Besonderheiten | B15: Immer versandkostenfrei, weitere Rabatte ab 59, 80 und 100 EUR | D15: Zugesetzte Aminosäuren | E15: Weniger süß (4% Zusatzstoffe) | F15: Weniger süß (3% Zusatzstoffe) | G15: Weniger süß | H15: Inkl. Stückchen | K15: Auch als Frappé & Matcha erhältlich | O15: Enthält echtes Saftpulver | Q15: Vitamin B12 | R15: Wenig Zusatzstoffe, Probierboxen | S15: Wenig Zusatzstoffe, Probierboxen | W15: Weniger Zusatzstoffe, nur mit Stevia gesüßt | Y15: Enthält Green Blend Mischung (z.B. Gerstengras) & B12 | Z15: Enthält Vitamin Mischung | AA15: Enthält Vitamin- und Mineralmischung, DigeZyme®; Proteingehalt auf Trockenbasis (real ca. 4 Prozentpunkte niedriger) | AB15: Enthält Vitamin- und Mineralmischung, DigeZyme®; Proteingehalt auf Trockenbasis (real ca. 4 Prozentpunkte niedriger) | AC15: Proteingehalt auf Trockenbasis (real ca. 4 Prozentpunkte niedriger) | AD15: DigeZyme® | AE15: Creapure, DigeZyme® | AF15: Verstärkter Fokus auf Geschmack, häufig mit Stückchen | AJ15: Mit Mönchsfrucht gesüßt (keine weiteren Süßungsmittel) | AM15: Aroma in Bio-Qualität | AO15: DigeZyme® | AP15: Bio Qualität, Papierverpackung, mit Mönchsfrucht gesüßt (keine weiteren Süßungsmittel) | AQ15: Inkl. Fruchtpulver, Papierverpackung | AU15: NiHPRO Rohstoff
A17: Nährwerte: | B17: Bananenbrot | C17: Banana Bread | D17: New York Cheesecake | E17: Erdnuss | F17: Erdnuss | G17: Banane | H17: Edelschokolade | I17: White Chocolate Cookie Crumble | J17: Vanille-Butterkeks | K17: White Chocolate Caramel | L17: Vanilla Crema | M17: Cinnamon Cereal | N17: MARVEL Cinnamon Groot | O17: Pfirsichtee | P17: Vanilla | Q17: Banana Caramel | R17: Banane | S17: Hazelnut | T17: Green Apple | U17: Banana-Peanutbutter | V17: Sour Cherry | W17: Vanilla | X17: Cookie Dough | Y17: Vanilla | Z17: Vanilla | AA17: Pistachio Ice Cream | AB17: Vanilla | AC17: Vanilla | AD17: Schoko-Haselnuss | AE17: Schoko-Haselnuss | AF17: Erdbeerwaffel | AG17: Mango | AH17: White Choco Pistachio | AI17: Cinnamon | AJ17: Bourbon Vanilla | AK17: Chocolate | AL17: Cookie | AM17: Vanille | AN17: Zimt Cereal | AO17: Vanilla Cream | AP17: Vanille | AQ17: Lemon & Lime | AR17: Banana Milkshake | AS17: Vanille | AT17: Haselnuss | AU17: Vanilla Deam
A18: Brennwert | B18: 406 | C18: 406 | D18: 384 | E18: 396 | F18: 412 | G18: 436 | H18: 393 | I18: 439 | J18: 417 | K18: 375 | L18: 386 | M18: 378 | N18: 377 | O18: 367 | P18: 371 | Q18: 401 | R18: 370 | S18: 390 | T18: 334 | U18: 396 | V18: 319 | W18: 360 | X18: 365 | Y18: 390 | Z18: 373 | AA18: 356 | AB18: 360 | AC18: 364 | AD18: 417 | AE18: 380 | AF18: 401 | AG18: {=105/30*100} -> 350 | AH18: 382 | AI18: 405 | AJ18: 382 | AK18: 363 | AL18: 410 | AM18: 372 | AN18: 390 | AO18: 405 | AP18: 387 | AQ18: 325 | AR18: 385 | AS18: 394 | AT18: 402 | AU18: 372
A19: Fett | B19: 7.7 | C19: 7.8 | D19: 6.1 | E19: 5.8 | F19: 4.7 | G19: 1.5 | H19: 9.2 | I19: 7.8 | J19: 6.5 | K19: 3.2 | L19: 5.8 | M19: 4.9 | N19: 1.8 | O19: 0.5 | P19: 3.9 | Q19: 8.2 | R19: 2.3 | S19: 1.8 | T19: 0 | U19: 6.7 | V19: 0.2 | W19: 5.6 | X19: 7.1 | Y19: 6.8 | Z19: 0.9 | AA19: 2.3 | AB19: 0.6 | AC19: 1.7 | AD19: 6.6 | AE19: 5.7 | AF19: 7.6 | AG19: {=0.1/30*100} -> 0.33333333 | AH19: 6.3 | AI19: 6.1 | AJ19: 5.3 | AK19: 4.3 | AL19: 9.14 | AM19: 0.5 | AN19: 7.2 | AO19: 8.5 | AP19: 6 | AQ19: 0.1 | AR19: 5 | AS19: 7.1 | AT19: 8.6 | AU19: 6
A20: davon gesättigt | B20: 1.5 | C20: 1.6 | D20: 1.8 | E20: 1.1 | F20: 1.4 | G20: 1.1 | H20: 3.5 | I20: 2.1 | J20: 1.8 | K20: 0.9 | L20: 1.5 | M20: 1.2 | N20: 0.3 | O20: 0.2 | P20: 0.8 | Q20: 1.9 | R20: 1 | S20: 0.3 | T20: 0.1 | U20: 1.8 | V20: 0.1 | W20: 2 | X20: 1.4 | Y20: 1.4 | Z20: 0.2 | AA20: 0.5 | AB20: 0.1 | AC20: 0.9 | AD20: 1.8 | AE20: 1.7 | AF20: 1.3 | AG20: {=0.1/30*100} -> 0.33333333 | AH20: 1.5 | AI20: 1.1 | AJ20: 1.2 | AK20: 1.6 | AL20: 1.76 | AM20: 0.5 | AN20: 1.9 | AO20: 3.4 | AP20: 1 | AQ20: 0.1 | AR20: 0.3 | AS20: 1.5 | AT20: 2.2 | AU20: 2
A21: Kohlenhydrate | B21: 3.6 | C21: 3.5 | D21: 1.5 | E21: 5.5 | F21: 8.5 | G21: 1 | H21: 4.3 | I21: 8.1 | J21: 5.9 | K21: 4.7 | L21: 2 | M21: 6.4 | N21: 8.3 | O21: 15 | P21: 4.7 | Q21: 8.3 | R21: 2.9 | S21: 5.3 | T21: 4.3 | U21: 2.3 | V21: 2 | W21: 5.5 | X21: 5 | Y21: 3 | Z21: 0.9 | AA21: 4 | AB21: 6.2 | AC21: 5.9 | AD21: 14 | AE21: 4 | AF21: 0.5 | AG21: {=1.5/30*100} -> 5 | AH21: 5.5 | AI21: 6.2 | AJ21: 8.5 | AK21: 7.2 | AL21: 6.4 | AM21: 4.7 | AN21: 7.9 | AO21: 1.3 | AP21: 8.9 | AQ21: 7.6 | AR21: 1.5 | AS21: 4.6 | AT21: 2.6 | AU21: 6.9
A22: davon Zucker | B22: 1.2 | C22: 1 | D22: 0.1 | E22: 3.2 | F22: 3.3 | G22: 1 | H22: 0.6 | I22: 3.8 | J22: 0.8 | K22: 2.5 | L22: 0.6 | M22: 0.9 | N22: 0.9 | O22: 2.7 | P22: 2.4 | Q22: 0.6 | R22: 1.2 | S22: 2.2 | T22: 0 | U22: 0.5 | V22: 1 | W22: 0.5 | X22: 1 | Y22: 0.2 | Z22: 0 | AA22: 0 | AB22: 0.1 | AC22: 0.1 | AD22: 0 | AE22: 4 | AF22: 0.5 | AG22: {=0.1/30*100} -> 0.33333333 | AH22: 1.7 | AI22: 0.9 | AJ22: 3.5 | AK22: 0.8 | AL22: 0 | AM22: 0.2 | AN22: 5.4 | AO22: 0.4 | AP22: 2.9 | AQ22: 2.1 | AR22: 0.3 | AS22: 0.3 | AT22: 0.5 | AU22: 1.8
A23: Eiweiß | B23: 79.5 | C23: 80 | D23: 78.4 | E23: 68.3 | F23: 69.5 | G23: 84.7 | H23: 68 | I23: 82 | J23: 81.9 | K23: 82 | L23: 80.4 | M23: 75 | N23: 80 | O23: 75 | P23: 78 | Q23: 73 | R23: 83 | S23: 82 | T23: 71 | U23: 79 | V23: 77 | W23: 79 | X23: 70 | Y23: 78 | Z23: 88.2 | AA23: 82 | AB23: 86 | AC23: 84 | AD23: 73 | AE23: 79 | AF23: 81 | AG23: {=23/30*100} -> 76.666667 | AH23: 75 | AI23: 80 | AJ23: 72 | AK23: 71 | AL23: 75.87 | AM23: 80 | AN23: 71 | AO23: 78.6 | AP23: 71 | AQ23: 72 | AR23: 82.7 | AS23: 76 | AT23: 72 | AU23: 72
A25: Aminogramm
A26: Leucin | B26: {=9.07*0.795} -> 7.21065 | C26: {=1.8*4} -> 7.2 | D26: {=11.2*0.784} -> 8.7808 | E26: {=7.6*0.683} -> 5.1908 | F26: {=7.8*0.695} -> 5.421 | G26: {=8.4*0.847} -> 7.1148 | H26: {=7.8*0.695} -> 5.421 | I26: {=9.07*0.82} -> 7.4374 | J26: 10 | K26: {=8.3*0.82} -> 6.806 | L26: {=10*0.804} -> 8.04 | M26: {=8.2*0.75} -> 6.15 | N26: 5.6 | O26: 2.9 | P26: {=8.1*0.78} -> 6.318 | Q26: {=8.5*0.73} -> 6.205 | R26: 6.8 | S26: 6.3 | T26: {=7.7*0.71} -> 5.467 | U26: {=11.7*0.79} -> 9.243 | V26: {=16.2*0.77} -> 12.474 | W26: {=8.5*0.79} -> 6.715 | X26: {=8.1*0.7} -> 5.67 | Y26: 6.6 | Z26: 6.7 | AD26: {=8.7*0.73} -> 6.351 | AE26: {=9.2*0.79} -> 7.268 | AF26: {=8.5*0.81} -> 6.885 | AH26: 5.9 | AI26: 10.2 | AJ26: 5.8 | AK26: 5.6 | AL26: {=6.99/81.1*75.9} -> 6.5418126 | AM26: 10 | AN26: {=13.1*0.71} -> 9.301 | AO26: {=8.6*0.786} -> 6.7596 | AP26: {=7*0.71} -> 4.97 | AQ26: 6.6 | AR26: {=14.2*0.827} -> 11.7434 | AT26: 6.1 | AU26: 7.1
A27: Isoleucin | B27: {=5.07*0.795} -> 4.03065 | C27: {=1*4} -> 4 | D27: {=5.7*0.784} -> 4.4688 | E27: {=4.2*0.683} -> 2.8686 | F27: {=4.2*0.695} -> 2.919 | G27: {=4.5*0.847} -> 3.8115 | H27: 3 | I27: {=5.07*0.82} -> 4.1574 | J27: 5.3 | K27: {=4.9*0.82} -> 4.018 | L27: {=5.8*0.804} -> 4.6632 | M27: {=4.7*0.75} -> 3.525 | N27: 3.1 | O27: 3.1 | P27: {=4.5*0.78} -> 3.51 | Q27: {=4.5*0.73} -> 3.285 | R27: 4.1 | S27: 3.2 | T27: {=7.7*0.71} -> 5.467 | U27: {=5.3*0.79} -> 4.187 | V27: {=5.6*0.77} -> 4.312 | W27: {=4.6*0.79} -> 3.634 | X27: {=4.5*0.7} -> 3.15 | Y27: 3.6 | Z27: 3.7 | AD27: {=4.7*0.73} -> 3.431 | AE27: {=4.9*0.79} -> 3.871 | AF27: {=4.7*0.81} -> 3.807 | AH27: 3.8 | AI27: 5 | AJ27: 3.2 | AK27: 3.2 | AL27: {=4.45/81.1*75.9} -> 4.1646732 | AM27: 3.92 | AN27: {=6.6*0.71} -> 4.686 | AO27: {=4.2*0.786} -> 3.3012 | AP27: {=3.43*0.71} -> 2.4353 | AQ27: 3.8 | AR27: {=7.7*0.827} -> 6.3679 | AT27: 3.4 | AU27: 3.5
A28: Valin | B28: {=5.45*0.795} -> 4.33275 | C28: {=1*4} -> 4 | D28: {=5.7*0.784} -> 4.4688 | E28: {=5.3*0.683} -> 3.6199 | F28: {=5.3*0.695} -> 3.6835 | G28: {=6.2*0.847} -> 5.2514 | H28: 3.2 | I28: {=5.45*0.82} -> 4.469 | J28: 5.6 | K28: {=5*0.82} -> 4.1 | L28: {=6*0.804} -> 4.824 | M28: {=5*0.75} -> 3.75 | N28: 4.4 | O28: 4.4 | P28: {=4.7*0.78} -> 3.666 | Q28: {=5.2*0.73} -> 3.796 | R28: 4.1 | S28: 3.7 | T28: {=4.7*0.71} -> 3.337 | U28: {=6*0.79} -> 4.74 | V28: {=9.3*0.77} -> 7.161 | W28: {=7.9*0.79} -> 6.241 | X28: {=6.5*0.7} -> 4.55 | Y28: 3.9 | Z28: 4 | AD28: {=5.2*0.73} -> 3.796 | AE28: {=5.3*0.79} -> 4.187 | AF28: {=5.2*0.81} -> 4.212 | AH28: 3.8 | AI28: 5.2 | AJ28: 3.3 | AK28: 3.2 | AL28: {=5.03/81.1*75.9} -> 4.7074846 | AM28: 4.01 | AN28: {=8*0.71} -> 5.68 | AO28: {=6.1*0.786} -> 4.7946 | AP28: {=4*0.71} -> 2.84 | AQ28: 4.1 | AR28: {=8.2*0.827} -> 6.7814 | AT28: 4 | AU28: 4.5
A29: BCAA | B29: {=SUM(B26:B28)} -> 15.57405 | C29: {=SUM(C26:C28)} -> 15.2 | D29: {=SUM(D26:D28)} -> 17.7184 | E29: {=SUM(E26:E28)} -> 11.6793 | F29: {=SUM(F26:F28)} -> 12.0235 | G29: {=SUM(G26:G28)} -> 16.1777 | H29: {=SUM(H26:H28)} -> 11.621 | I29: {=SUM(I26:I28)} -> 16.0638 | ... AU29: {=SUM(AU26:AU28)} -> 15.1
A30: Lysin | B30: {=7.93*0.795} -> 6.30435 | C30: {=1.5*4} -> 6 | D30: {=8.8*0.784} -> 6.8992 | E30: {=3.6*0.683} -> 2.4588 | F30: {=3.5*0.695} -> 2.4325 | G30: {=3.4*0.847} -> 2.8798 | H30: 4.3 | I30: {=7.93*0.82} -> 6.5026 | J30: 7.1 | K30: {=6.4*0.82} -> 5.248 | L30: {=7.9*0.804} -> 6.3516 | M30: {=6.8*0.75} -> 5.1 | N30: 2.5 | O30: 2.6 | P30: {=6.6*0.78} -> 5.148 | Q30: {=6.9*0.73} -> 5.037 | R30: 5.4 | S30: 3.5 | T30: {=7.2*0.71} -> 5.112 | U30: {=9.4*0.79} -> 7.426 | V30: {=6.1*0.77} -> 4.697 | W30: {=6*0.79} -> 4.74 | X30: {=6.1*0.7} -> 4.27 | Y30: 5 | Z30: 5.6 | AD30: {=7.3*0.73} -> 5.329 | AE30: {=10.9*0.79} -> 8.611 | AF30: {=7.1*0.81} -> 5.751 | AH30: 4.9 | AI30: 4.8 | AJ30: 4.3 | AK30: 4.3 | AL30: {=7.6/81.1*75.9} -> 7.1127004 | AM30: 5.01 | AN30: {=5.1*0.71} -> 3.621 | AO30: {=5.4*0.786} -> 4.2444 | AP30: {=6.29*0.71} -> 4.4659 | AQ30: 5.9 | AR30: {=5.1*0.827} -> 4.2177 | AT30: 5 | AU30: 4.2
A31: Threonin | B31: {=3.78*0.795} -> 3.0051 | C31: {=0.8*4} -> 3.2 | D31: {=2.6*0.784} -> 2.0384 | E31: {=3.1*0.683} -> 2.1173 | F31: {=3.2*0.695} -> 2.224 | G31: {=3.6*0.847} -> 3.0492 | H31: 2.5 | I31: {=3.78*0.82} -> 3.0996 | J31: 3.3 | K31: {=3.8*0.82} -> 3.116 | L31: {=3.3*0.804} -> 2.6532 | M31: {=3.8*0.75} -> 2.85 | N31: 2.9 | O31: 2.9 | P31: {=4*0.78} -> 3.12 | Q31: {=3.9*0.73} -> 2.847 | R31: 3.2 | S31: 2.4 | T31: {=3.3*0.71} -> 2.343 | U31: {=4.3*0.79} -> 3.397 | V31: {=2.6*0.77} -> 2.002 | W31: {=3.6*0.79} -> 2.844 | X31: {=3.4*0.7} -> 2.38 | Y31: 2.8 | Z31: 3.1 | AD31: {=3.7*0.73} -> 2.701 | AE31: {=8.6*0.79} -> 6.794 | AF31: {=3.7*0.81} -> 2.997 | AH31: 2.9 | AI31: 2.7 | AJ31: 2.6 | AK31: 2.6 | AL31: {=4.56/81.1*75.9} -> 4.2676202 | AM31: 1.09 | AN31: {=3*0.71} -> 2.13 | AO31: {=3*0.786} -> 2.358 | AP31: {=3*0.71} -> 2.13 | AQ31: 2.9 | AR31: {=6.4*0.827} -> 5.2928 | AT31: 2.6 | AU31: 2.7
A32: Phenylalanin | B32: {=5.96*0.795} -> 4.7382 | C32: {=1.1*4} -> 4.4 | D32: {=4.9*0.784} -> 3.8416 | E32: {=5.4*0.683} -> 3.6882 | F32: {=5.5*0.695} -> 3.8225 | G32: {=5.6*0.847} -> 4.7432 | H32: 3.4 | I32: {=5.96*0.82} -> 4.8872 | J32: 3.4 | K32: {=5.3*0.82} -> 4.346 | L32: {=4.7} -> 4.7 | M32: {=5.5*0.75} -> 4.125 | N32: 4.8 | O32: 4.8 | P32: {=5.3*0.78} -> 4.134 | Q32: {=5.6*0.73} -> 4.088 | R32: 4.6 | S32: 3.8 | T32: {=4.8*0.71} -> 3.408 | U32: {=4.4*0.79} -> 3.476 | V32: {=4.4*0.77} -> 3.388 | W32: {=5.2*0.79} -> 4.108 | X32: {=5*0.7} -> 3.5 | Y32: 4 | Z32: 4.7 | AD32: {=5.4*0.73} -> 3.942 | AE32: {=4.6*0.79} -> 3.634 | AF32: {=5.4*0.81} -> 4.374 | AH32: 3.9 | AI32: 3.7 | AJ32: 3.7 | AK32: 3.6 | AL32: {=4.18/81.1*75.9} -> 3.9119852 | AM32: 5.1 | AN32: {=4.8*0.71} -> 3.408 | AO32: {=5.4*0.786} -> 4.2444 | AP32: {=4.43*0.71} -> 3.1453 | AQ32: 4.4 | AR32: {=3.7*0.827} -> 3.0599 | AT32: {=5.9*0.702} -> 4.1418 | AU32: 3.7
A33: Methionin | B33: {=0.67*0.795} -> 0.53265 | C33: {=0.2*4} -> 0.8 | D33: {=2.4*0.784} -> 1.8816 | E33: {=1.5*0.683} -> 1.0245 | F33: {=1.6*0.695} -> 1.112 | G33: {=2.1*0.847} -> 1.7787 | H33: 0.7 | I33: {=0.67*0.82} -> 0.5494 | J33: 2.6 | K33: {=1.3*0.82} -> 1.066 | L33: {=2*0.804} -> 1.608 | M33: {=1.2*0.75} -> 0.9 | N33: 1.5 | O33: 1.5 | P33: {=1.1*0.78} -> 0.858 | Q33: {=1.2*0.73} -> 0.876 | R33: {=1.3*0.75} -> 0.975 | S33: 1.2 | T33: {=2.5*0.71} -> 1.775 | U33: {=2.4*0.79} -> 1.896 | V33: {=1.3*0.77} -> 1.001 | W33: {=2.4*0.79} -> 1.896 | X33: {=1.2*0.7} -> 0.84 | Y33: 0.94 | Z33: 1.2 | AD33: {=1.6*0.73} -> 1.168 | AE33: {=1.4*0.79} -> 1.106 | AF33: {=1.5*0.81} -> 1.215 | AH33: 1.1 | AI33: 0.6 | AJ33: 0.8 | AK33: 0.9 | AL33: {=0.35/81.1*75.9} -> 0.32755857 | AM33: 2.5 | AN33: {=1.7*0.71} -> 1.207 | AO33: {=2.3*0.786} -> 1.8078 | AP33: {=0.96*0.71} -> 0.6816 | AQ33: 2.3 | AR33: {=3.3*0.827} -> 2.7291 | AT33: 0.98 | AU33: 1.8
A34: Tryptophan | B34: {=1.46*0.795} -> 1.1607 | C34: {=0.2*4} -> 0.8 | D34: {=1.5*0.784} -> 1.176 | E34: {=1.2*0.683} -> 0.8196 | F34: {=1.3*0.695} -> 0.9035 | G34: {=1.4*0.847} -> 1.1858 | H34: 0.7 | I34: {=1.46*0.82} -> 1.1972 | J34: 1.3 | K34: {=1.3*0.82} -> 1.066 | L34: {=2*0.804} -> 1.608 | M34: {=1.2*0.75} -> 0.9 | N34: 3.3 | O34: 1.1 | P34: {=1*0.78} -> 0.78 | Q34: {=1*0.73} -> 0.73 | R34: 0.9 | S34: 1.1 | T34: {=1.8*0.71} -> 1.278 | U34: {=1.5*0.79} -> 1.185 | V34: {=3.7*0.77} -> 2.849 | W34: {=0.8*0.79} -> 0.632 | X34: {=1.1*0.7} -> 0.77 | Y34: 0.8 | Z34: 0.9 | AD34: {=1*0.73} -> 0.73 | AE34: {=0.8*0.79} -> 0.632 | AF34: {=1*0.81} -> 0.81 | AH34: 1.1 | AI34: 0.7 | AJ34: 0.7 | AK34: 0.8 | AL34: {=1.24/81.1*75.9} -> 1.1604932 | AM34: 1.09 | AN34: {=1.3*0.71} -> 0.923 | AO34: {=1.5*0.786} -> 1.179 | AP34: {=0.97*0.71} -> 0.6887 | AQ34: 1.5 | AR34: {=0.8*0.827} -> 0.6616 | AT34: 0.74 | AU34: 0.71
A35: Histidin | B35: {=2.25*0.795} -> 1.78875 | C35: {=0.5*4} -> 2 | D35: {=2.1*0.784} -> 1.6464 | E35: {=2.5*0.683} -> 1.7075 | F35: {=2.5*0.695} -> 1.7375 | G35: {=2.5*0.847} -> 2.1175 | H35: 1.7 | I35: {=2.25*0.82} -> 1.845 | J35: 1.6 | K35: {=2.6*0.82} -> 2.132 | L35: {=2.3*0.804} -> 1.8492 | M35: {=2.6*0.75} -> 1.95 | N35: 1.7 | O35: 1.7 | P35: {=2.8*0.78} -> 2.184 | Q35: {=2.5*0.73} -> 1.825 | R35: 2.3 | S35: 2.1 | T35: {=2.3*0.71} -> 1.633 | U35: {=2.2*0.79} -> 1.738 | V35: {=1.8*0.77} -> 1.386 | W35: {=2.2*0.79} -> 1.738 | X35: {=2.3*0.7} -> 1.61 | Y35: 3.8 | Z35: 2.3 | AD35: {=2.3*0.73} -> 1.679 | AE35: {=3.2*0.79} -> 2.528 | AF35: {=2.4} -> 2.4 | AH35: 1.8 | AI35: 1.8 | AJ35: 1.8 | AK35: 1.8 | AL35: {=2.16/81.1*75.9} -> 2.0215043 | AM35: 2.1 | AN35: {=2.1*0.71} -> 1.491 | AO35: {=2.4*0.786} -> 1.8864 | AP35: {=2.14*0.71} -> 1.5194 | AQ35: 3 | AR35: {=2*0.827} -> 1.654 | AT35: 1.8 | AU35: 1.6
A36: EAA | B36: {=SUM(B29:B35)} -> 33.1038 | C36: {=SUM(C29:C35)} -> 32.4 | D36: {=SUM(D29:D35)} -> 35.2016 | E36: {=SUM(E29:E35)} -> 23.4952 | F36: {=SUM(F29:F35)} -> 24.2555 | G36: {=SUM(G29:G35)} -> 31.9319 | H36: {=SUM(H29:H35)} -> 24.921 | I36: {=SUM(I29:I35)} -> 34.1448 | ... AU36: {=SUM(AU29:AU35)} -> 29.81
A37: Tyrosin | B37: {=3.78*0.795} -> 3.0051 | C37: {=0.7*4} -> 2.8 | D37: {=3.3*0.784} -> 2.5872 | E37: {=4.1*0.683} -> 2.8003 | F37: {=4.9*0.695} -> 3.4055 | G37: {=5.6*0.847} -> 4.7432 | H37: 2.5 | I37: {=3.78*0.82} -> 3.0996 | J37: 2.4 | K37: {=3.8*0.82} -> 3.116 | L37: {=3.4*0.804} -> 2.7336 | M37: {=3.8*0.75} -> 2.85 | N37: 3.3 | O37: 3.3 | P37: {=3.7*0.78} -> 2.886 | Q37: {=4*0.73} -> 2.92 | R37: 2.8 | S37: 2.8 | T37: {=3.5*0.71} -> 2.485 | U37: {=3.2*0.79} -> 2.528 | V37: {=1.4*0.77} -> 1.078 | W37: {=2.7*0.79} -> 2.133 | X37: {=2.4*0.7} -> 1.68 | Y37: 3 | Z37: 3.5 | AD37: {=4.1*0.73} -> 2.993 | AE37: {=3.5*0.79} -> 2.765 | AF37: {=4*0.81} -> 3.24 | AH37: 3 | AI37: 2.4 | AJ37: 2.7 | AK37: 2.6 | AL37: {=3.35/81.1*75.9} -> 3.1352035 | AN37: {=3.1*0.71} -> 2.201 | AO37: {=3.6*0.786} -> 2.8296 | AP37: {=3.14*0.71} -> 2.2294 | AQ37: 3.1 | AR37: {=2.5*0.827} -> 2.0675 | AT37: 2.8 | AU37: 3.1
A38: Arginin | B38: {=9.46*0.795} -> 7.5207 | C38: {=1.9*4} -> 7.6 | D38: {=7.8*0.784} -> 6.1152 | E38: {=11.6*0.683} -> 7.9228 | F38: {=9.9*0.695} -> 6.8805 | G38: {=8.3*0.847} -> 7.0301 | H38: 5.6 | I38: {=9.46*0.82} -> 7.7572 | J38: 5.6 | K38: {=7.8*0.82} -> 6.396 | L38: {=8.5*0.804} -> 6.834 | M38: {=8.3*0.75} -> 6.225 | N38: 4 | O38: 4 | P38: {=8*0.78} -> 6.24 | Q38: {=8.7*0.73} -> 6.351 | R38: 6.6 | S38: 5.1 | T38: {=7.9*0.71} -> 5.609 | U38: {=7.8*0.79} -> 6.162 | V38: {=6.2*0.77} -> 4.774 | W38: {=8.1*0.79} -> 6.399 | X38: {=10.7*0.7} -> 7.49 | Y38: 6.7 | Z38: 6.9 | AD38: {=8.8*0.73} -> 6.424 | AE38: {=7.8*0.79} -> 6.162 | AF38: {=8.6*0.81} -> 6.966 | AH38: 6.5 | AI38: 6.8 | AJ38: 6.2 | AK38: 5.6 | AL38: {=5.07/81.1*75.9} -> 4.7449199 | AN38: {=7.6*0.71} -> 5.396 | AO38: {=8.5*0.786} -> 6.681 | AP38: {=8.43*0.71} -> 5.9853 | AQ38: 7 | AR38: {=6.3*0.827} -> 5.2101 | AT38: 6.1 | AU38: 7.8
A39: Glutaminsäure | B39: {=18.27*0.795} -> 14.52465 | C39: {=3.7*4} -> 14.8 | D39: {=16.4*0.784} -> 12.8576 | E39: {=20.2*0.683} -> 13.7966 | F39: {=18.7*0.695} -> 12.9965 | G39: {=17.5*0.847} -> 14.8225 | H39: 12.1 | I39: {=18.27*0.82} -> 14.9814 | J39: 11.2 | K39: {=19.1*0.82} -> 15.662 | L39: {=16.8*0.804} -> 13.5072 | M39: {=18.3*0.75} -> 13.725 | N39: 21.5 | O39: 21.7 | P39: {=18.5} -> 18.5 | Q39: {=17*0.73} -> 12.41 | R39: 16.1 | S39: 10.9 | T39: {=15.8*0.71} -> 11.218 | U39: {=16.1*0.79} -> 12.719 | V39: {=18.3*0.77} -> 14.091 | W39: {=16.8*0.79} -> 13.272 | X39: {=17.9*0.7} -> 12.53 | Y39: 13.5 | Z39: 17.6 | AD39: {=17.4*0.73} -> 12.702 | AE39: {=14.8*0.79} -> 11.692 | AF39: {=17.9*0.81} -> 14.499 | AH39: 14.3 | AI39: 13.6 | AJ39: 14.4 | AK39: 13.7 | AL39: {=10.08/81.1*75.9} -> 9.4336868 | AN39: {=15.8*0.71} -> 11.218 | AO39: {=17.8*0.786} -> 13.9908 | AP39: {=15.57*0.71} -> 11.0547 | AQ39: 13.5 | AR39: {=18.4*0.827} -> 15.2168 | AT39: 11.9 | AU39: 11.6
A40: SEAA | B40: {=SUM(B37:B39)} -> 25.05045 | C40: {=SUM(C37:C39)} -> 25.2 | D40: {=SUM(D37:D39)} -> 21.56 | E40: {=SUM(E37:E39)} -> 24.5197 | F40: {=SUM(F37:F39)} -> 23.2825 | G40: {=SUM(G37:G39)} -> 26.5958 | H40: {=SUM(H37:H39)} -> 20.2 | I40: {=SUM(I37:I39)} -> 25.8382 | ... AL40: {=SUM(AL37:AL39)} -> 17.31381 | AN40: {=SUM(AN37:AN39)} -> 18.815 | AO40: {=SUM(AO37:AO39)} -> 23.5014 | AP40: {=SUM(AP37:AP39)} -> 19.2694 | AQ40: {=SUM(AQ37:AQ39)} -> 23.6 | AR40: {=SUM(AR37:AR39)} -> 22.4944 | AS40: {=SUM(AS37:AS39)} -> 0 | AT40: {=SUM(AT37:AT39)} -> 20.8 | AU40: {=SUM(AU37:AU39)} -> 22.5
A41: Prolin | B41: {=1.72*0.795} -> 1.3674 | C41: {=0.7*4} -> 2.8 | D41: {=3.9*0.784} -> 3.0576 | E41: {=4.2*0.683} -> 2.8686 | F41: {=4.5*0.695} -> 3.1275 | G41: {=4.5*0.847} -> 3.8115 | H41: 3.4 | I41: {=1.72*0.82} -> 1.4104 | J41: 3.2 | K41: {=5.1} -> 5.1 | L41: {=4.2*0.804} -> 3.3768 | M41: {=4.8*0.75} -> 3.6 | N41: 9.2 | O41: 9.3 | P41: {=5.1*0.78} -> 3.978 | Q41: {=4.5*0.73} -> 3.285 | R41: 4.5 | S41: 6.2 | T41: {=3.9*0.71} -> 2.769 | U41: {=4.9*0.79} -> 3.871 | V41: {=3.7*0.77} -> 2.849 | W41: {=4*0.79} -> 3.16 | X41: {=4*0.7} -> 2.8 | Y41: 4 | Z41: 4.6 | AD41: {=4.3*0.73} -> 3.139 | AE41: {=3.7*0.79} -> 2.923 | AF41: {=4.5*0.81} -> 3.645 | AH41: 3.6 | AI41: 3.2 | AJ41: 3.6 | AK41: 3.4 | AL41: {=3.8/81.1*75.9} -> 3.5563502 | AN41: {=3.8*0.71} -> 2.698 | AO41: {=4.3*0.786} -> 3.3798 | AP41: {=4*0.71} -> 2.84 | AQ41: 3.5 | AR41: {=3.2*0.827} -> 2.6464 | AT41: 3.1 | AU41: 2.9
A42: Glycin | B42: {=4*0.795} -> 3.18 | C42: {=0.8*4} -> 3.2 | D42: {=4.1*0.784} -> 3.2144 | E42: {=5.4*0.683} -> 3.6882 | F42: {=5.3*0.695} -> 3.6835 | G42: {=4.3*0.847} -> 3.6421 | H42: 2.8 | I42: {=4*0.82} -> 3.28 | J42: 2.6 | K42: {=4.2*0.82} -> 3.444 | L42: {=3.8*0.804} -> 3.0552 | M42: {=4.2*0.75} -> 3.15 | N42: 3.5 | O42: 3.5 | P42: {=4.1*0.78} -> 3.198 | Q42: {=4.1*0.73} -> 2.993 | R42: 3.5 | S42: 2.9 | T42: {=3.9*0.71} -> 2.769 | U42: {=3.6*0.79} -> 2.844 | V42: {=3.1*0.77} -> 2.387 | W42: {=4*0.79} -> 3.16 | X42: {=4.5*0.7} -> 3.15 | Y42: 3 | Z42: 3.6 | AD42: {=4.1*0.73} -> 2.993 | AE42: {=3.5*0.79} -> 2.765 | AF42: {=4.2*0.81} -> 3.402 | AH42: 3.3 | AI42: 3 | AJ42: 3.2 | AK42: 3 | AL42: {=3.56/81.1*75.9} -> 3.3317386 | AN42: {=3.8*0.71} -> 2.698 | AO42: {=4.5*0.786} -> 3.537 | AP42: {=3.86*0.71} -> 2.7406 | AQ42: 3.2 | AR42: {=2.9*0.827} -> 2.3983 | AT42: 3 | AU42: 2.7
A43: Cystein | B43: {=0.75*0.795} -> 0.59625 | C43: {=0.1*4} -> 0.4 | D43: {=3.4*0.784} -> 2.6656 | E43: {=1.8*0.683} -> 1.2294 | F43: {=2.4*0.695} -> 1.668 | G43: {=3.2*0.847} -> 2.7104 | H43: 0.7 | I43: {=0.75*0.82} -> 0.615 | J43: 0.71 | K43: {=1.2*0.82} -> 0.984 | L43: {=1.2*0.804} -> 0.9648 | M43: {=1.1*0.75} -> 0.825 | N43: 1.5 | O43: 1.5 | P43: {=1.4*0.78} -> 1.092 | Q43: {=1.2*0.73} -> 0.876 | R43: 1.4 | S43: 2 | T43: {=1.6*0.71} -> 1.136 | U43: {=1.4*0.79} -> 1.106 | V43: {=0} -> 0 | W43: {=1.6*0.79} -> 1.264 | X43: {=1.1*0.7} -> 0.77 | Y43: 0.8 | Z43: 1.2 | AD43: {=0.9*0.73} -> 0.657 | AE43: {=0.7*0.79} -> 0.553 | AF43: {=0.9*0.81} -> 0.729 | AH43: 0.9 | AI43: 0.6 | AJ43: 0.9 | AK43: 1 | AL43: {=0.53/81.1*75.9} -> 0.49601726 | AN43: {=2.4*0.71} -> 1.704 | AO43: {=3.2*0.786} -> 2.5152 | AP43: {=0.87*0.71} -> 0.6177 | AQ43: 1 | AR43: {=0.8*0.827} -> 0.6616 | AT43: 1.2 | AU43: 0.96
A44: Asparaginsäure | B44: {=10.65*0.795} -> 8.46675 | C44: {=2.2*4} -> 8.8 | D44: {=8.5*0.784} -> 6.664 | E44: {=9.1*0.683} -> 6.2153 | F44: {=9.6*0.695} -> 6.672 | G44: {=8.4*0.847} -> 7.1148 | H44: 7.2 | I44: {=10.65*0.82} -> 8.733 | J44: 6.9 | K44: {=11.7*0.82} -> 9.594 | L44: {=10*0.804} -> 8.04 | M44: {=11.4*0.75} -> 8.55 | N44: 7.2 | O44: 7.3 | P44: {=11.8*0.78} -> 9.204 | Q44: {=11.3*0.73} -> 8.249 | R44: 9 | S44: 6.8 | T44: {=10.4*0.71} -> 7.384 | U44: {=9.2*0.79} -> 7.268 | V44: {=13.1*0.77} -> 10.087 | W44: {=10.1*0.79} -> 7.979 | X44: {=10.5*0.7} -> 7.35 | Y44: 8.1 | Z44: 10.4 | AD44: {=10.6*0.73} -> 7.738 | AE44: {=9*0.79} -> 7.11 | AF44: {=10.8*0.81} -> 8.748 | AH44: 8.8 | AI44: 8.6 | AJ44: 8.1 | AK44: 7.9 | AL44: {=8.99/81.1*75.9} -> 8.4135758 | AN44: {=9.3*0.71} -> 6.603 | AO44: {=9.7*0.786} -> 7.6242 | AP44: {=8.86*0.71} -> 6.2906 | AQ44: 9.1 | AR44: {=8*0.827} -> 6.616 | AT44: 7.7 | AU44: 6.6
A45: Serin | B45: {=5.15*0.795} -> 4.09425 | C45: {=1.1*4} -> 4.4 | D45: {=3.9*0.784} -> 3.0576 | E45: {=4.3*0.683} -> 2.9369 | F45: {=4.7*0.695} -> 3.2665 | G45: {=4.8*0.847} -> 4.0656 | H45: 3.4 | I45: {=5.15*0.82} -> 4.223 | J45: 3.3 | K45: {=5.3*0.82} -> 4.346 | L45: {=4.8*0.804} -> 3.8592 | M45: {=5.1*0.75} -> 3.825 | N45: 3.6 | O45: 3.6 | P45: {=5*0.78} -> 3.9 | Q45: {=5.3*0.73} -> 3.869 | R45: 4.2 | S45: 4 | T45: {=4.4*0.71} -> 3.124 | U45: {=4.3*0.79} -> 3.397 | V45: {=3.2*0.77} -> 2.464 | W45: {=6.5*0.79} -> 5.135 | X45: {=6.1*0.7} -> 4.27 | Y45: 3.8 | Z45: 4.8 | AD45: {=5.2*0.73} -> 3.796 | AE45: {=4.4*0.79} -> 3.476 | AF45: {=5.1*0.81} -> 4.131 | AH45: 3.9 | AI45: 4 | AJ45: 3.5 | AK45: 3.5 | AL45: {=4.44/81.1*75.9} -> 4.1553144 | AN45: {=4.1*0.71} -> 2.911 | AO45: {=4.4*0.786} -> 3.4584 | AP45: {=5*0.71} -> 3.55 | AQ45: 4.1 | AR45: {=3.4*0.827} -> 2.8118 | AT45: 3.6 | AU45: 3.2
A46: Alanin | B46: {=4.57*0.795} -> 3.63315 | C46: {=0.9*4} -> 3.6 | D46: {=4.8*0.784} -> 3.7632 | E46: {=4.9*0.683} -> 3.3467 | F46: {=5.1*0.695} -> 3.5445 | G46: {=5.7*0.847} -> 4.8279 | H46: 2.9 | I46: {=4.57*0.82} -> 3.7474 | J46: 2.7 | K46: {=4.4*0.82} -> 3.608 | L46: {=4.2*0.804} -> 3.3768 | M46: {=4.3*0.75} -> 3.225 | N46: 3.7 | O46: 3.7 | P46: {=4.2*0.78} -> 3.276 | Q46: {=4.5*0.73} -> 3.285 | R46: 3.5 | S46: 2.8 | T46: {=8*0.71} -> 5.68 | U46: {=3.9*0.79} -> 3.081 | V46: {=0} -> 0 | W46: {=5*0.79} -> 3.95 | X46: {=4.4*0.7} -> 3.08 | Y46: 3.3 | Z46: 3.6 | AD46: {=4.7*0.73} -> 3.431 | AE46: {=4*0.79} -> 3.16 | AF46: {=4.6*0.81} -> 3.726 | AH46: 3.3 | AI46: 3.2 | AJ46: 3.2 | AK46: 3.1 | AL46: {=4.72/81.1*75.9} -> 4.4173613 | AN46: {=4.4*0.71} -> 3.124 | AO46: {=5.1*0.786} -> 4.0086 | AP46: {=3.86*0.71} -> 2.7406 | AQ46: 3.4 | AR46: {=3*0.827} -> 2.481 | AT46: 3.2 | AU46: 3.2
A47: Gesamt | B47: {=B36+B40+B41+B42+B43+B44+B45+B46} -> 79.49205 | C47: {=C36+C40+C41+C42+C43+C44+C45+C46} -> 80.8 | D47: {=D36+D40+D41+D42+D43+D44+D45+D46} -> 79.184 | E47: {=E36+E40+E41+E42+E43+E44+E45+E46} -> 68.3 | F47: {=F36+F40+F41+F42+F43+F44+F45+F46} -> 69.5 | G47: {=G36+G40+G41+G42+G43+G44+G45+G46} -> 84.7 | H47: {=H36+H40+H41+H42+H43+H44+H45+H46} -> 65.521 | I47: {=I36+I40+I41+I42+I43+I44+I45+I46} -> 81.9918 | ... AL47: {=AL36+AL40+AL41+AL42+AL43+AL44+AL45+AL46} -> 75.9 | AN47: {=AN36+AN40+AN41+AN42+AN43+AN44+AN45+AN46} -> 71 | AO47: {=AO36+AO40+AO41+AO42+AO43+AO44+AO45+AO46} -> 78.6 | AP47: {=AP36+AP40+AP41+AP42+AP43+AP44+AP45+AP46} -> 60.9251 | AQ47: {=AQ36+AQ40+AQ41+AQ42+AQ43+AQ44+AQ45+AQ46} -> 82.4 | AR47: {=AR36+AR40+AR41+AR42+AR43+AR44+AR45+AR46} -> 82.6173 | AS47: {=AS36+AS40+AS41+AS42+AS43+AS44+AS45+AS46} -> 0 | AT47: {=AT36+AT40+AT41+AT42+AT43+AT44+AT45+AT46} -> 71.3618 | AU47: {=AU36+AU40+AU41+AU42+AU43+AU44+AU45+AU46} -> 71.87
A49: Bewertung
A50: Eiweißgehalt (25%) | B50: {=VLOOKUP(B23,'S-Verweis'!$C$3:$D$13,2,TRUE)} -> 8 | C50: {=VLOOKUP(C23,'S-Verweis'!$C$3:$D$13,2,TRUE)} -> 9 | D50: {=VLOOKUP(D23,'S-Verweis'!$C$3:$D$13,2,TRUE)} -> 8 | E50: {=VLOOKUP(E23,'S-Verweis'!$C$3:$D$13,2,TRUE)} -> 3 | F50: {=VLOOKUP(F23,'S-Verweis'!$C$3:$D$13,2,TRUE)} -> 3 | G50: {=VLOOKUP(G23,'S-Verweis'!$C$3:$D$13,2,TRUE)} -> 10 | H50: {=VLOOKUP(H23,'S-Verweis'!$C$3:$D$13,2,TRUE)} -> 3 | I50: {=VLOOKUP(I23,'S-Verweis'!$C$3:$D$13,2,TRUE)} -> 10 | ... AU50: {=VLOOKUP(AU23,'S-Verweis'!$C$3:$D$13,2,TRUE)} -> 5
A51: EAA Gehalt (20%) | B51: {=VLOOKUP(B36,'S-Verweis'!$C$15:$D$25,2,TRUE)} -> 8 | C51: {=VLOOKUP(C36,'S-Verweis'!$C$15:$D$25,2,TRUE)} -> 7 | D51: {=VLOOKUP(D36,'S-Verweis'!$C$15:$D$25,2,TRUE)} -> 9 | E51: {=VLOOKUP(E36,'S-Verweis'!$C$15:$D$25,2,TRUE)} -> 0 | F51: {=VLOOKUP(F36,'S-Verweis'!$C$15:$D$25,2,TRUE)} -> 2 | G51: {=VLOOKUP(G36,'S-Verweis'!$C$15:$D$25,2,TRUE)} -> 7 | H51: {=VLOOKUP(H36,'S-Verweis'!$C$15:$D$25,2,TRUE)} -> 2 | I51: {=VLOOKUP(I36,'S-Verweis'!$C$15:$D$25,2,TRUE)} -> 8 | ... AU51: {=VLOOKUP(AU36,'S-Verweis'!$C$15:$D$25,2,TRUE)} -> 5
A52: BCAA Gehalt (15%) | B52: {=VLOOKUP(B29,'S-Verweis'!$C$27:$D$37,2,TRUE)} -> 7 | C52: {=VLOOKUP(C29,'S-Verweis'!$C$27:$D$37,2,TRUE)} -> 7 | D52: {=VLOOKUP(D29,'S-Verweis'!$C$27:$D$37,2,TRUE)} -> 9 | E52: {=VLOOKUP(E29,'S-Verweis'!$C$27:$D$37,2,TRUE)} -> 3 | F52: {=VLOOKUP(F29,'S-Verweis'!$C$27:$D$37,2,TRUE)} -> 4 | G52: {=VLOOKUP(G29,'S-Verweis'!$C$27:$D$37,2,TRUE)} -> 8 | H52: {=VLOOKUP(H29,'S-Verweis'!$C$27:$D$37,2,TRUE)} -> 3 | I52: {=VLOOKUP(I29,'S-Verweis'!$C$27:$D$37,2,TRUE)} -> 8 | ... AU52: {=VLOOKUP(AU29,'S-Verweis'!$C$27:$D$37,2,TRUE)} -> 7
A53: Lysin Gehalt (10%) | B53: {=VLOOKUP(B30,'S-Verweis'!$C$39:$D$49,2,TRUE)} -> 10 | C53: {=VLOOKUP(C30,'S-Verweis'!$C$39:$D$49,2,TRUE)} -> 10 | D53: {=VLOOKUP(D30,'S-Verweis'!$C$39:$D$49,2,TRUE)} -> 10 | E53: {=VLOOKUP(E30,'S-Verweis'!$C$39:$D$49,2,TRUE)} -> 2 | F53: {=VLOOKUP(F30,'S-Verweis'!$C$39:$D$49,2,TRUE)} -> 2 | G53: {=VLOOKUP(G30,'S-Verweis'!$C$39:$D$49,2,TRUE)} -> 3 | H53: {=VLOOKUP(H30,'S-Verweis'!$C$39:$D$49,2,TRUE)} -> 6 | I53: {=VLOOKUP(I30,'S-Verweis'!$C$39:$D$49,2,TRUE)} -> 10 | ... AU53: {=VLOOKUP(AU30,'S-Verweis'!$C$39:$D$49,2,TRUE)} -> 6
A54: Methionin Gehalt (10%) | B54: {=VLOOKUP(B33,'S-Verweis'!$C$51:$D$62,2,TRUE)} -> 0 | C54: {=VLOOKUP(C33,'S-Verweis'!$C$51:$D$62,2,TRUE)} -> 3 | D54: {=VLOOKUP(D33,'S-Verweis'!$C$51:$D$62,2,TRUE)} -> 10 | E54: {=VLOOKUP(E33,'S-Verweis'!$C$51:$D$62,2,TRUE)} -> 5 | F54: {=VLOOKUP(F33,'S-Verweis'!$C$51:$D$62,2,TRUE)} -> 6 | G54: {=VLOOKUP(G33,'S-Verweis'!$C$51:$D$62,2,TRUE)} -> 10 | H54: {=VLOOKUP(H33,'S-Verweis'!$C$51:$D$62,2,TRUE)} -> 2 | I54: {=VLOOKUP(I33,'S-Verweis'!$C$51:$D$62,2,TRUE)} -> 0 | ... AU54: {=VLOOKUP(AU33,'S-Verweis'!$C$51:$D$62,2,TRUE)} -> 10
A55: Tryptophan Gehalt (10%) | B55: {=VLOOKUP(B34,'S-Verweis'!$C$64:$D$72,2,TRUE)} -> 10 | C55: {=VLOOKUP(C34,'S-Verweis'!$C$64:$D$72,2,TRUE)} -> 6 | D55: {=VLOOKUP(D34,'S-Verweis'!$C$64:$D$72,2,TRUE)} -> 10 | E55: {=VLOOKUP(E34,'S-Verweis'!$C$64:$D$72,2,TRUE)} -> 6 | F55: {=VLOOKUP(F34,'S-Verweis'!$C$64:$D$72,2,TRUE)} -> 8 | G55: {=VLOOKUP(G34,'S-Verweis'!$C$64:$D$72,2,TRUE)} -> 10 | H55: {=VLOOKUP(H34,'S-Verweis'!$C$64:$D$72,2,TRUE)} -> 4 | I55: {=VLOOKUP(I34,'S-Verweis'!$C$64:$D$72,2,TRUE)} -> 10 | ... AU55: {=VLOOKUP(AU34,'S-Verweis'!$C$64:$D$72,2,TRUE)} -> 4
A56: Zucker Gehalt (5%) | B56: {=VLOOKUP(B22,'S-Verweis'!$C$74:$D$85,2,TRUE)} -> 8 | C56: {=VLOOKUP(C22,'S-Verweis'!$C$74:$D$85,2,TRUE)} -> 8 | D56: {=VLOOKUP(D22,'S-Verweis'!$C$74:$D$85,2,TRUE)} -> 10 | E56: {=VLOOKUP(E22,'S-Verweis'!$C$74:$D$85,2,TRUE)} -> 4 | F56: {=VLOOKUP(F22,'S-Verweis'!$C$74:$D$85,2,TRUE)} -> 4 | G56: {=VLOOKUP(G22,'S-Verweis'!$C$74:$D$85,2,TRUE)} -> 8 | H56: {=VLOOKUP(H22,'S-Verweis'!$C$74:$D$85,2,TRUE)} -> 9 | I56: {=VLOOKUP(I22,'S-Verweis'!$C$74:$D$85,2,TRUE)} -> 3 | ... AU56: {=VLOOKUP(AU22,'S-Verweis'!$C$74:$D$85,2,TRUE)} -> 7
A57: Gesättigte Fettsäuren (5%) | B57: {=VLOOKUP(B20,'S-Verweis'!$C$87:$D$96,2,TRUE)} -> 7 | C57: {=VLOOKUP(C20,'S-Verweis'!$C$87:$D$96,2,TRUE)} -> 7 | D57: {=VLOOKUP(D20,'S-Verweis'!$C$87:$D$96,2,TRUE)} -> 7 | E57: {=VLOOKUP(E20,'S-Verweis'!$C$87:$D$96,2,TRUE)} -> 8 | F57: {=VLOOKUP(F20,'S-Verweis'!$C$87:$D$96,2,TRUE)} -> 8 | G57: {=VLOOKUP(G20,'S-Verweis'!$C$87:$D$96,2,TRUE)} -> 8 | H57: {=VLOOKUP(H20,'S-Verweis'!$C$87:$D$96,2,TRUE)} -> 2 | I57: {=VLOOKUP(I20,'S-Verweis'!$C$87:$D$96,2,TRUE)} -> 6 | ... AU57: {=VLOOKUP(AU20,'S-Verweis'!$C$87:$D$96,2,TRUE)} -> 6
A58: Gesamt: | B58: {=B50*25+B51*20+B52*15+B53*10+B54*10+B55*10+B56*5+B57*5} -> 740 | C58: {=C50*25+C51*20+C52*15+C53*10+C54*10+C55*10+C56*5+C57*5} -> 735 | D58: {=D50*25+D51*20+D52*15+D53*10+D54*10+D55*10+D56*5+D57*5} -> 900 | E58: {=E50*25+E51*20+E52*15+E53*10+E54*10+E55*10+E56*5+E57*5} -> 310 | F58: {=F50*25+F51*20+F52*15+F53*10+F54*10+F55*10+F56*5+F57*5} -> 395 | G58: {=G50*25+G51*20+G52*15+G53*10+G54*10+G55*10+G56*5+G57*5} -> 820 | H58: {=H50*25+H51*20+H52*15+H53*10+H54*10+H55*10+H56*5+H57*5} -> 335 | I58: {=I50*25+I51*20+I52*15+I53*10+I54*10+I55*10+I56*5+I57*5} -> 775 | ... AU58: {=AU50*25+AU51*20+AU52*15+AU53*10+AU54*10+AU55*10+AU56*5+AU57*5} -> 595

Sheet Performance
A1: Tabelle 1
B2: Vegan Protein Matrix | C2: No Milk Vegan Protein | D2: Vegan Crème de la Crème | E2: V Up-Powder | F2: Vegan Protein | G2: Yummy Vegan Protein | H2: Fruity Vegan Protein | I2: RPI-85 | J2: Soy 90+ | K2: AllVegan Protein | L2: Vegan Protein | M2: Vegan 3K Protein | N2: Clear Protein | O2: Vegetable Protein Freaking Good | P2: Pro Protein | Q2: Veganes Protein | R2: Supreme 100% Vegan Protein | S2: Vegan Protein | T2: Vegan Protein Isolat | U2: Vegan Protein | V2: Plant Protein Superblend | W2: Vegan 6K Protein | X2: Smartein | Y2: Vegan Protein | Z2: Clear Vhey | AA2: Vheygan Veganes Protein Veggy+ | AB2: Protein Shake | AC2: Vegan Protein | AD2: SoProtein Vegan | AE2: Almost Whey | AF2: 100% Vegan Protein | AG2: Vegan Connection | AH2: Vegan Protein | AI2: Clear Protein Superblend | AJ2: Daily Protein | AK2: Yummy Vegan Protein | AL2: Natural Protein | AM2: Vegan 2K Protein | AN2: Vegan Protein Gold | AO2: Vegan Protein 360 Platinum | AP2: Vegan Protein Black | AQ2: Perfect Vegan Protein | AR2: Vegan 4K Protein | AS2: Vegan Protein | AT2: Clear Protein | AU2: Plant Based Protein
A3: Marke | B3: EVO SPORTS FUEL | C3: GN | D3: Overshield | E3: Schokamoli | F3: Big Zone | G3: vit4ever | H3: Peak | I3: Bodybuilding Depot | J3: Powerstar Food | K3: fayn. | L3: Bodylab24 | M3: Nutri+ | N3: vetain | O3: Prozis | P3: Rocka Nutrition | Q3: 247 Nutrition | R3: Prozis | S3: #sinob | T3: Peak | U3: ALL STARS | V3: MyProtein | W3: Nutri+ | X3: Smartein Protein | Y3: Powerstar Food | Z3: Nutri+ | AA3: #sinob | AB3: Rocka Nutrition | AC3: Inlead | AD3: Natural Elements | AE3: Zec+ | AF3: Prozis | AG3: Zec+ | AH3: Neosupps | AI3: MyProtein | AJ3: Rocka Nutrition | AK3: Peak | AL3: Rocka Nutrition | AM3: Bodybuilding Depot | AN3: Protein Works | AO3: Protein Works | AP3: Protein Works | AQ3: BODY IP | AR3: Bodybuilding Depot | AS3: vetain | AT3: Rocka Nutrition | AU3: Weider
A4: Preis | B4: 31.9 | C4: 34.9 | D4: 40 | E4: 45.8 | F4: 27.9 | G4: 31.99 | H4: 24.9 | I4: 24.9 | J4: 19.99 | K4: 27.9 | L4: 36.99 | M4: 32.9 | N4: 36.99 | O4: 19.99 | P4: 39.99 | Q4: 26.95 | R4: 24.99 | S4: 29.9 | T4: 17.9 | U4: 18.99 | V4: 39.99 | W4: 32.9 | X4: 29.99 | Y4: 24.9 | Z4: 24.99 | AA4: 31.99 | AB4: 37.99 | AC4: 19.95 | AD4: 23.99 | AE4: 24.9 | AF4: 21.99 | AG4: 23.9 | AH4: 22.99 | AI4: 40.99 | AJ4: 29.99 | AK4: 16.9 | AL4: 29.99 | AM4: 19.9 | AN4: 15.49 | AO4: 18.39 | AP4: 15.79 | AQ4: 29.9 | AR4: 29.9 | AS4: 32.99 | AT4: 29.99 | AU4: 19.99
A5: Größe | B5: 800 | C5: 1000 | D5: 1000 | E5: 1000 | F5: 1000 | G5: 908 | H5: 400 | I5: 1000 | J5: 1000 | K5: 700 | L5: 1000 | M5: 1000 | N5: 480 | O5: 750 | P5: 750 | Q5: 900 | R5: 700 | S5: 910 | T5: 750 | U5: 300 | V5: 560 | W5: 1000 | X5: 500 | Y5: 500 | Z5: 400 | AA5: 900 | AB5: 900 | AC5: 500 | AD5: 660 | AE5: 1000 | AF5: 700 | AG5: 750 | AH5: 600 | AI5: 480 | AJ5: 1000 | AK5: 450 | AL5: 600 | AM5: 1000 | AN5: 1000 | AO5: 1000 | AP5: 1000 | AQ5: 750 | AR5: 1000 | AS5: 540 | AT5: 360 | AU5: 450
A6: Preis pro kg | B6: {=B4/B5*1000} -> 39.875 | C6: {=C4/C5*1000} -> 34.9 | D6: {=D4/D5*1000} -> 40 | E6: {=E4/E5*1000} -> 45.8 | F6: 27.9 | G6: {=G4/G5*1000} -> 35.231278 | H6: {=H4/H5*1000} -> 62.25 | I6: {=I4/I5*1000} -> 24.9 | J6: {=J4/J5*1000} -> 19.99 | K6: {=K4/K5*1000} -> 39.857143 | L6: {=L4/L5*1000} -> 36.99 | M6: {=M4/M5*1000} -> 32.9 | N6: {=N4/N5*1000} -> 77.0625 | ... T6: {=T4/T5*1000} -> 23.866667 | U6: 50.63 | V6: {=V4/V5*1000} -> 71.410714 | W6: {=W4/W5*1000} -> 32.9 | X6: {=X4/X5*1000} -> 59.98 | Y6: {=Y4/Y5*1000} -> 49.8 | Z6: {=Z4/Z5*1000} -> 62.475 | AA6: {=AA4/AA5*1000} -> 35.544444 | AB6: {=AB4/AB5*1000} -> 42.211111 | AC6: {=AC4/AC5*1000} -> 39.9 | ... AL6: {=AL4/AL5*1000} -> 49.983333 | AM6: 19.9 | AN6: {=AN4/AN5*1000} -> 15.49 | AO6: {=AO4/AO5*1000} -> 18.39 | AP6: {=AP4/AP5*1000} -> 15.79 | AQ6: {=AQ4/AQ5*1000} -> 39.866667 | AR6: 29.9 | AS6: {=AS4/AS5*1000} -> 61.092593 | AT6: {=AT4/AT5*1000} -> 83.305556 | AU6: {=AU4/AU5*1000} -> 44.422222
A7: Rabattcode (Standardrabatt) | B7: Felix (10%) | C7: Felix10 (10%) | D7: Felix (25%) | E7: Felix (5%) | F7: Felix10 (10%) | G7: Felix (10%) | H7: Felix10 (10%) | I7: Felix5 (5%) | J7: Felix (10%) | K7: Felix (10%) | L7: FelixVegan (46%) | M7: Felix (10%) | N7: Felix (10%) | O7: FitnessFoodCorner (10% + Goodies) | P7: FitnessFoodCorner (10%) | Q7: Felix (5%) | R7: FitnessFoodCorner (10% + Goodies) | S7: Felix10 (10%) | T7: Felix10 (10%) | U7: Felix (10%) | V7: Felix (10%) | W7: Felix (10%) | X7: Keine Codes verfügbar | Y7: Felix (10%) | Z7: Felix (10%) | AA7: Felix (10%) | AB7: FitnessFoodCorner (10%) | AC7: Felix (10%) | AD7: Felix (10%) | AE7: FitnessFoodCorner (10%) | AF7: FitnessFoodCorner (10% + Goodies) | AG7: FitnessFoodCorner (10%) | AH7: Felix10 (10%) | AI7: Felix (10%) | AJ7: FitnessFoodCorner (10%) | AK7: Felix10 (10%) | AL7: FitnessFoodCorner (10%) | AM7: Felix5 (5%) | AN7: FelixPW (10%) | AO7: FelixPW (10%) | AP7: FelixPW (10%) | AQ7: Felix (15%) | AR7: Felix5 (5%) | AS7: Felix (10%) | AT7: FitnessFoodCorner (10%) | AU7: Felix (10%)
A9: Realistischer Angebotspreis | B9: 25.52 | C9: {=C4*0.75} -> 26.175 | D9: 28 | E9: {=E4*0.9} -> 41.22 | F9: {=F4*0.7} -> 19.53 | G9: {=G4*0.8} -> 25.592 | H9: 19.92 | I9: 21.29 | J9: {=J4*0.8} -> 15.992 | K9: 20.93 | L9: 19.99 | M9: 26.32 | N9: {=N4*0.85} -> 31.4415 | O9: {=O4*0.8} -> 15.992 | P9: {=P4*0.8} -> 31.992 | Q9: 16.23 | R9: {=R4*0.8} -> 19.992 | S9: {=S4*0.85} -> 25.415 | T9: 14.32 | U9: 13.68 | V9: 8.09 | W9: 26.32 | X9: 29.99 | Y9: {=Y4*0.8} -> 19.92 | Z9: 19.99 | AA9: 26.99 | AB9: {=AB4*0.8} -> 30.392 | AC9: 14.36 | AD9: 21.6 | AE9: 24.9 | AF9: {=AF4*0.8} -> 17.592 | AG9: {=AG4*0.85} -> 20.315 | AH9: 18.39 | AI9: 21.59 | AJ9: {=AJ4*0.8} -> 23.992 | AK9: 13.52 | AL9: {=AL4*0.8} -> 23.992 | AM9: 17.01 | AN9: {=AN4*0.9} -> 13.941 | AO9: {=AO4*0.9} -> 16.551 | AP9: {=AP4*0.9} -> 14.211 | AQ9: 25.42 | AR9: 25.56 | AS9: {=AS4*0.85} -> 28.0415 | AT9: {=AT4*0.8} -> 23.992 | AU9: {=AU4*0.85} -> 16.9915
A10: Angebotspreis pro kg | B10: {=B9/B5*1000} -> 31.9 | C10: {=C9/C5*1000} -> 26.175 | D10: {=D9/D5*1000} -> 28 | E10: {=E9/E5*1000} -> 41.22 | F10: {=F9/F5*1000} -> 19.53 | G10: {=G9/G5*1000} -> 28.185022 | H10: {=H9/H5*1000} -> 49.8 | I10: {=I9/I5*1000} -> 21.29 | ... AU10: {=AU9/AU5*1000} -> 37.758889
A11: Häufigkeit des Angebots | B11: Gelegentlich | C11: Häufig | D11: Gelegentlich | E11: Selten | F11: Selten | G11: Gelegentlich | H11: Selten | I11: Selten | J11: Gelegentlich | K11: Gelegentlich | L11: Dauerhaft | M11: Gelegentlich | N11: Häufig | O11: Häufig | P11: Gelegentlich | Q11: Dauerhaft (3er Pack) | R11: Häufig | S11: Selten | T11: Selten | U11: Oft | V11: Oft | W11: Gelegentlich | X11: Nie | Y11: Gelegentlich | Z11: Gelegentlich | AA11: Häufig | AB11: Gelegentlich | AC11: Gelegentlich | AD11: Dauerhaft | AE11: Keine | AF11: Häufig | AG11: Gelegentlich | AH11: Gelegentlich | AI11: Oft | AJ11: Gelegentlich | AK11: Selten | AL11: Gelegentlich | AM11: Selten | AN11: Dauerhaft | AO11: Dauerhaft | AP11: Dauerhaft | AQ11: k.A. | AR11: Selten | AS11: Häufig | AT11: Gelegentlich | AU11: Gelegentlich
A13: Sorten | B13: 4 | C13: 4 | D13: 6 | E13: 2 | F13: 4 | G13: 8 | H13: 6 | I13: 4 | J13: 8 | K13: 5 (inkl. Matcha) | L13: 19 | M13: 23 | N13: 8 | O13: 6 | P13: 1 | Q13: 2 | R13: 3 | S13: 2 | T13: 11 | U13: 2 | V13: 4 | W13: 21 | X13: 3 | Y13: 6 | Z13: 3 | AA13: 6 | AB13: 12 | AC13: 7 | AD13: 2 | AE13: 2 | AF13: 4 | AG13: 4 | AH13: 2 | AI13: 3 | AJ13: 2 | AK13: 7 | AL13: 1 | AM13: 4 | AN13: 6 | AO13: 11 | AP13: 5 | AQ13: 5 | AR13: 4 | AS13: 11 | AT13: 3 | AU13: 2
A14: Zusammensetzung | B14: Ackerbohnenprotein, Erbsenproteinisolat, Reisprotein, Lysin, Valin, Isoleucin, Methionin, Threonin, Tryptophan | C14: Ackerbohneneiweiß, Erbseneiweiß, Reiseiweiß, Lysin, Leucin, Isoleucin, Valin, Methionin, Tryptophan | D14: Ackerbohnenprotein, Reisprotein, Lysin, Leucin, Threonin, Valin, Methionin, Isoleucin, Tryptophan | E14: Sojaproteinisolat, Leucin, Methionin | F14: Reisprotein (56,8%), Erbsenprotein (30%), Lysin, Leucin, Isoleucin | G14: Ackerbohnenprotein, Leucin, Isoleucin, Valin, Glutamin, Threonin, Methionin | H14: Hydrolisiertes Erbsenprotein, Leucin, Isoleucin, Valin (BCAA 15%), Methionin | I14: Reisprotein | J14: Sojaproteinisolat | K14: Sojaproteinisolat (84,3%), Ackerbohnenprotein (6%), Erbsenproteinisolat (4%) | L14: Ackerbohnenprotein (44%), Erbsenprotein (42%), Kürbiskernprotein (6%) | M14: Sojaproteinisolat, Erbsenproteinisolat, Sonnenblumenprotein | N14: Hydrolisiertes Erbsenprotein, L-Methionin, L-Histidin, L-Triptophan | O14: Erbsenprotein (45%), Reisprotein (30%), Sojaproteinisolat (19%) | P14: Ackerbohnenprotein, Erbsenproteinisolat, Leucin, Valin, Isoleucin | Q14: Ackerbohnenprotein (44%), Erbsenprotein (42%), Kürbiskernprotein (6%) | R14: Erbsenprotein, Reisprotein, Threonin, Lysin, Leucin, Isoleucin, Valin, Histidin | S14: Reisprotein (51,4%), Erbsenprotein (43,8%) | T14: Reisproteinisolat (49%), Erbsenproteinisolat (49%) | U14: Erbsenprotein (55%), Ackerbohnenprotein (35%), Kürbiskernprotein (6%) | V14: Hydrolisiertes Gerstenprotein, hydrolisiertes Reisprotein | W14: Sojaproteinisolat, Weizenprotein, Reisprotein, Erbsenproteinisolat, Sonnenblumenprotein, Mandelprotein | X14: Protein aus der Hefe Saccharomyces cerevisiae | Y14: Erbsenproteinisolat, Ackerbohnenprotein, Wassermelonenkernprotein, Kichererbsenprotein, Kürbiskernprotein | Z14: Erbsenproteinhydrolisat (77,6%), Alanin, Isoleucin, Methionin, Tryptophan | AA14: Erbsenproteinisolat (63,3%), Reisprotein (16,7%), Leucin, Isoleucin, Valin | AB14: Erbsenprotein, Sojaproteinisolat, Ackerbohnenprotein, Sonnenblumenkernmehl, Mandelmehl | AC14: Sojaproteinisolat (47%), Erbsenprotein (40%), Mandelprotein (2%), Ackerbohnenprotein (2%) | AD14: Sojaeiweißisolat, Erbseneiweiß, Ackerbohneneiweißisolat | AE14: Erbsenprotein, Reisprotein, Leucin, Lysin, Valin, Methionin, Isoleucin, Threonin | AF14: Erbsenprotein, Reisprotein | AG14: Erbseneiweißisolat, Reiseiweiß | AH14: Erbsenprotein (77%), Reisprotein (9%), Kürbiskernprotein (4,5%) | AI14: Hydrolisiertes Gerstenprotein, hydrolisiertes Reisprotein | AJ14: Sojaproteinisolat, Ackerbohnenprotein, Sonnenblumenprotein | AK14: Kürbiskernprotein (32%), Ackerbohnenprotein (26,8%), Erbsenproteinisolat (26,8%), Mandelprotein (5,3%), Hanfprotein (5,3%) | AL14: Sojaproteinisolat, Ackerbohnenprotein, Mandelprotein, Erbsenprotein | AM14: Reisprotein (60%), Erdnussprotein (40%) | AN14: Sojaproteinisolat, Erbsenproteinisolat, Reisprotein | AO14: Sojaproteinisolat, Erbsenproteinisolat, Kürbiskernprotein, Reisprotein | AP14: Sojaproteinisolat, Erbsenproteinisolat | AQ14: Ackerbohnenprotein, Sojaproteinisolat, Erbsenproteinisolat, Sonnenblumenprotein | AR14: Reisprotein (40%), Kürbiskernprotein (30%), Mandelprotein (20%), Erdnussprotein (10%) | AS14: Erbsenprotein (50%), Ackerbohnenprotein (20%), Kürbiskernprotein (18%), Goldleinmehl (3%) | AT14: Hydrolisiertes Erbsenprotein (92%) | AU14: Erbsenprotein (78,4%), Ackerbohnenprotein (10%), Reisprotein (5%)
A15: Besonderheiten | E15: Aroma in Bio-Qualität | I15: Weniger süß | J15: Enthält Vitamin Mischung | K15: Auch als Frappé & Matcha erhältlich | M15: Wenig Zusatzstoffe, Probierboxen | N15: Inkl. Fruchtpulver, Papierverpackung | O15: Verstärkter Fokus auf Geschmack, häufig mit Stückchen | Q15: Immer versandkostenfrei, weitere Rabatte ab 59, 80 und 100 EUR | R15: Creapure, DigeZyme® | S15: DigeZyme® | T15: Weniger Zusatzstoffe, nur mit Stevia gesüßt | W15: Wenig Zusatzstoffe, Probierboxen | Y15: Enthält Green Blend Mischung (z.B. Gerstengras) & B12 | AE15: NiHPRO Rohstoff | AF15: DigeZyme® | AH15: Vitamin B12 | AI15: Enthält echtes Saftpulver | AL15: Mit Mönchsfrucht gesüßt (keine weiteren Süßungsmittel) | AM15: Weniger süß (3% Zusatzstoffe) | AN15: Enthält Vitamin- und Mineralmischung, DigeZyme®; Proteingehalt auf Trockenbasis (real ca. 4 Prozentpunkte niedriger) | AO15: Enthält Vitamin- und Mineralmischung, DigeZyme®; Proteingehalt auf Trockenbasis (real ca. 4 Prozentpunkte niedriger) | AP15: Proteingehalt auf Trockenbasis (real ca. 4 Prozentpunkte niedriger) | AQ15: Inkl. Stückchen | AR15: Weniger süß (4% Zusatzstoffe) | AS15: Bio Qualität, Papierverpackung, mit Mönchsfrucht gesüßt (keine weiteren Süßungsmittel)
A17: Nährwerte: | B17: Vanille-Butterkeks | C17: Vanilla Crema | D17: Banana-Peanutbutter | E17: Vanille | F17: New York Cheesecake | G17: Banana Milkshake | H17: Sour Cherry | I17: Banane | J17: Vanilla | K17: White Chocolate Caramel | L17: White Chocolate Cookie Crumble | M17: Banane | N17: Lemon & Lime | O17: Erdbeerwaffel | P17: Cinnamon | Q17: Bananenbrot | R17: Schoko-Haselnuss | S17: Vanilla Cream | T17: Vanilla | U17: Banana Bread | V17: MARVEL Cinnamon Groot | W17: Hazelnut | X17: Cookie | Y17: Vanilla | Z17: Green Apple | AA17: Zimt Cereal | AB17: White Choco Pistachio | AC17: Cinnamon Cereal | AD17: Vanilla | AE17: Vanilla Deam | AF17: Schoko-Haselnuss | AG17: Haselnuss | AH17: Banana Caramel | AI17: Pfirsichtee | AJ17: Chocolate | AK17: Cookie Dough | AL17: Bourbon Vanilla | AM17: Erdnuss | AN17: Vanilla | AO17: Pistachio Ice Cream | AP17: Vanilla | AQ17: Edelschokolade | AR17: Erdnuss | AS17: Vanille | AT17: Mango | AU17: Vanille
A18: Brennwert | B18: 417 | C18: 386 | D18: 396 | E18: 372 | F18: 384 | G18: 385 | H18: 319 | I18: 436 | J18: 373 | K18: 375 | L18: 439 | M18: 370 | N18: 325 | O18: 401 | P18: 405 | Q18: 406 | R18: 380 | S18: 405 | T18: 360 | U18: 406 | V18: 377 | W18: 390 | X18: 410 | Y18: 390 | Z18: 334 | AA18: 390 | AB18: 382 | AC18: 378 | AD18: 371 | AE18: 372 | AF18: 417 | AG18: 402 | AH18: 401 | AI18: 367 | AJ18: 363 | AK18: 365 | AL18: 382 | AM18: 412 | AN18: 360 | AO18: 356 | AP18: 364 | AQ18: 393 | AR18: 396 | AS18: 387 | AT18: {=105/30*100} -> 350 | AU18: 394
A19: Fett | B19: 6.5 | C19: 5.8 | D19: 6.7 | E19: 0.5 | F19: 6.1 | G19: 5 | H19: 0.2 | I19: 1.5 | J19: 0.9 | K19: 3.2 | L19: 7.8 | M19: 2.3 | N19: 0.1 | O19: 7.6 | P19: 6.1 | Q19: 7.7 | R19: 5.7 | S19: 8.5 | T19: 5.6 | U19: 7.8 | V19: 1.8 | W19: 1.8 | X19: 9.14 | Y19: 6.8 | Z19: 0 | AA19: 7.2 | AB19: 6.3 | AC19: 4.9 | AD19: 3.9 | AE19: 6 | AF19: 6.6 | AG19: 8.6 | AH19: 8.2 | AI19: 0.5 | AJ19: 4.3 | AK19: 7.1 | AL19: 5.3 | AM19: 4.7 | AN19: 0.6 | AO19: 2.3 | AP19: 1.7 | AQ19: 9.2 | AR19: 5.8 | AS19: 6 | AT19: {=0.1/30*100} -> 0.33333333 | AU19: 7.1
A20: davon gesättigt | B20: 1.8 | C20: 1.5 | D20: 1.8 | E20: 0.5 | F20: 1.8 | G20: 0.3 | H20: 0.1 | I20: 1.1 | J20: 0.2 | K20: 0.9 | L20: 2.1 | M20: 1 | N20: 0.1 | O20: 1.3 | P20: 1.1 | Q20: 1.5 | R20: 1.7 | S20: 3.4 | T20: 2 | U20: 1.6 | V20: 0.3 | W20: 0.3 | X20: 1.76 | Y20: 1.4 | Z20: 0.1 | AA20: 1.9 | AB20: 1.5 | AC20: 1.2 | AD20: 0.8 | AE20: 2 | AF20: 1.8 | AG20: 2.2 | AH20: 1.9 | AI20: 0.2 | AJ20: 1.6 | AK20: 1.4 | AL20: 1.2 | AM20: 1.4 | AN20: 0.1 | AO20: 0.5 | AP20: 0.9 | AQ20: 3.5 | AR20: 1.1 | AS20: 1 | AT20: {=0.1/30*100} -> 0.33333333 | AU20: 1.5
A21: Kohlenhydrate | B21: 5.9 | C21: 2 | D21: 2.3 | E21: 4.7 | F21: 1.5 | G21: 1.5 | H21: 2 | I21: 1 | J21: 0.9 | K21: 4.7 | L21: 8.1 | M21: 2.9 | N21: 7.6 | O21: 0.5 | P21: 6.2 | Q21: 3.6 | R21: 4 | S21: 1.3 | T21: 5.5 | U21: 3.5 | V21: 8.3 | W21: 5.3 | X21: 6.4 | Y21: 3 | Z21: 4.3 | AA21: 7.9 | AB21: 5.5 | AC21: 6.4 | AD21: 4.7 | AE21: 6.9 | AF21: 14 | AG21: 2.6 | AH21: 8.3 | AI21: 15 | AJ21: 7.2 | AK21: 5 | AL21: 8.5 | AM21: 8.5 | AN21: 6.2 | AO21: 4 | AP21: 5.9 | AQ21: 4.3 | AR21: 5.5 | AS21: 8.9 | AT21: {=1.5/30*100} -> 5 | AU21: 4.6
A22: davon Zucker | B22: 0.8 | C22: 0.6 | D22: 0.5 | E22: 0.2 | F22: 0.1 | G22: 0.3 | H22: 1 | I22: 1 | J22: 0 | K22: 2.5 | L22: 3.8 | M22: 1.2 | N22: 2.1 | O22: 0.5 | P22: 0.9 | Q22: 1.2 | R22: 4 | S22: 0.4 | T22: 0.5 | U22: 1 | V22: 0.9 | W22: 2.2 | X22: 0 | Y22: 0.2 | Z22: 0 | AA22: 5.4 | AB22: 1.7 | AC22: 0.9 | AD22: 2.4 | AE22: 1.8 | AF22: 0 | AG22: 0.5 | AH22: 0.6 | AI22: 2.7 | AJ22: 0.8 | AK22: 1 | AL22: 3.5 | AM22: 3.3 | AN22: 0.1 | AO22: 0 | AP22: 0.1 | AQ22: 0.6 | AR22: 3.2 | AS22: 2.9 | AT22: {=0.1/30*100} -> 0.33333333 | AU22: 0.3
A23: Eiweiß | B23: 81.9 | C23: 80.4 | D23: 79 | E23: 80 | F23: 78.4 | G23: 82.7 | H23: 77 | I23: 84.7 | J23: 88.2 | K23: 82 | L23: 82 | M23: 83 | N23: 72 | O23: 81 | P23: 80 | Q23: 79.5 | R23: 79 | S23: 78.6 | T23: 79 | U23: 80 | V23: 80 | W23: 82 | X23: 75.87 | Y23: 78 | Z23: 71 | AA23: 71 | AB23: 75 | AC23: 75 | AD23: 78 | AE23: 72 | AF23: 73 | AG23: 72 | AH23: 73 | AI23: 75 | AJ23: 71 | AK23: 70 | AL23: 72 | AM23: 69.5 | AN23: 86 | AO23: 82 | AP23: 84 | AQ23: 68 | AR23: 68.3 | AS23: 71 | AT23: {=23/30*100} -> 76.666667 | AU23: 76
A25: Aminogramm
A26: Leucin | B26: 10 | C26: {=10*0.804} -> 8.04 | D26: {=11.7*0.79} -> 9.243 | E26: 10 | F26: {=11.2*0.784} -> 8.7808 | G26: {=14.2*0.827} -> 11.7434 | H26: {=16.2*0.77} -> 12.474 | I26: {=8.4*0.847} -> 7.1148 | J26: 6.7 | K26: {=8.3*0.82} -> 6.806 | L26: {=9.07*0.82} -> 7.4374 | M26: 6.8 | N26: 6.6 | O26: {=8.5*0.81} -> 6.885 | P26: 10.2 | Q26: {=9.07*0.795} -> 7.21065 | R26: {=9.2*0.79} -> 7.268 | S26: {=8.6*0.786} -> 6.7596 | T26: {=8.5*0.79} -> 6.715 | U26: {=1.8*4} -> 7.2 | V26: 5.6 | W26: 6.3 | X26: {=6.99/81.1*75.9} -> 6.5418126 | Y26: 6.6 | Z26: {=7.7*0.71} -> 5.467 | AA26: {=13.1*0.71} -> 9.301 | AB26: 5.9 | AC26: {=8.2*0.75} -> 6.15 | AD26: {=8.1*0.78} -> 6.318 | AE26: 7.1 | AF26: {=8.7*0.73} -> 6.351 | AG26: 6.1 | AH26: {=8.5*0.73} -> 6.205 | AI26: 2.9 | AJ26: 5.6 | AK26: {=8.1*0.7} -> 5.67 | AL26: 5.8 | AM26: {=7.8*0.695} -> 5.421 | AQ26: {=7.8*0.695} -> 5.421 | AR26: {=7.6*0.683} -> 5.1908 | AS26: {=7*0.71} -> 4.97
A27: Isoleucin | B27: 5.3 | C27: {=5.8*0.804} -> 4.6632 | D27: {=5.3*0.79} -> 4.187 | E27: 3.92 | F27: {=5.7*0.784} -> 4.4688 | G27: {=7.7*0.827} -> 6.3679 | H27: {=5.6*0.77} -> 4.312 | I27: {=4.5*0.847} -> 3.8115 | J27: 3.7 | K27: {=4.9*0.82} -> 4.018 | L27: {=5.07*0.82} -> 4.1574 | M27: 4.1 | N27: 3.8 | O27: {=4.7*0.81} -> 3.807 | P27: 5 | Q27: {=5.07*0.795} -> 4.03065 | R27: {=4.9*0.79} -> 3.871 | S27: {=4.2*0.786} -> 3.3012 | T27: {=4.6*0.79} -> 3.634 | U27: {=1*4} -> 4 | V27: 3.1 | W27: 3.2 | X27: {=4.45/81.1*75.9} -> 4.1646732 | Y27: 3.6 | Z27: {=7.7*0.71} -> 5.467 | AA27: {=6.6*0.71} -> 4.686 | AB27: 3.8 | AC27: {=4.7*0.75} -> 3.525 | AD27: {=4.5*0.78} -> 3.51 | AE27: 3.5 | AF27: {=4.7*0.73} -> 3.431 | AG27: 3.4 | AH27: {=4.5*0.73} -> 3.285 | AI27: 3.1 | AJ27: 3.2 | AK27: {=4.5*0.7} -> 3.15 | AL27: 3.2 | AM27: {=4.2*0.695} -> 2.919 | AQ27: 3 | AR27: {=4.2*0.683} -> 2.8686 | AS27: {=3.43*0.71} -> 2.4353
A28: Valin | B28: 5.6 | C28: {=6*0.804} -> 4.824 | D28: {=6*0.79} -> 4.74 | E28: 4.01 | F28: {=5.7*0.784} -> 4.4688 | G28: {=8.2*0.827} -> 6.7814 | H28: {=9.3*0.77} -> 7.161 | I28: {=6.2*0.847} -> 5.2514 | J28: 4 | K28: {=5*0.82} -> 4.1 | L28: {=5.45*0.82} -> 4.469 | M28: 4.1 | N28: 4.1 | O28: {=5.2*0.81} -> 4.212 | P28: 5.2 | Q28: {=5.45*0.795} -> 4.33275 | R28: {=5.3*0.79} -> 4.187 | S28: {=6.1*0.786} -> 4.7946 | T28: {=7.9*0.79} -> 6.241 | U28: {=1*4} -> 4 | V28: 4.4 | W28: 3.7 | X28: {=5.03/81.1*75.9} -> 4.7074846 | Y28: 3.9 | Z28: {=4.7*0.71} -> 3.337 | AA28: {=8*0.71} -> 5.68 | AB28: 3.8 | AC28: {=5*0.75} -> 3.75 | AD28: {=4.7*0.78} -> 3.666 | AE28: 4.5 | AF28: {=5.2*0.73} -> 3.796 | AG28: 4 | AH28: {=5.2*0.73} -> 3.796 | AI28: 4.4 | AJ28: 3.2 | AK28: {=6.5*0.7} -> 4.55 | AL28: 3.3 | AM28: {=5.3*0.695} -> 3.6835 | AQ28: 3.2 | AR28: {=5.3*0.683} -> 3.6199 | AS28: {=4*0.71} -> 2.84
A29: BCAA | B29: {=SUM(B26:B28)} -> 20.9 | C29: {=SUM(C26:C28)} -> 17.5272 | D29: {=SUM(D26:D28)} -> 18.17 | E29: {=SUM(E26:E28)} -> 17.93 | F29: {=SUM(F26:F28)} -> 17.7184 | G29: {=SUM(G26:G28)} -> 24.8927 | H29: {=SUM(H26:H28)} -> 23.947 | I29: {=SUM(I26:I28)} -> 16.1777 | ... AU29: {=SUM(AU26:AU28)} -> 0
A30: Lysin | B30: 7.1 | C30: {=7.9*0.804} -> 6.3516 | D30: {=9.4*0.79} -> 7.426 | E30: 5.01 | F30: {=8.8*0.784} -> 6.8992 | G30: {=5.1*0.827} -> 4.2177 | H30: {=6.1*0.77} -> 4.697 | I30: {=3.4*0.847} -> 2.8798 | J30: 5.6 | K30: {=6.4*0.82} -> 5.248 | L30: {=7.93*0.82} -> 6.5026 | M30: 5.4 | N30: 5.9 | O30: {=7.1*0.81} -> 5.751 | P30: 4.8 | Q30: {=7.93*0.795} -> 6.30435 | R30: {=10.9*0.79} -> 8.611 | S30: {=5.4*0.786} -> 4.2444 | T30: {=6*0.79} -> 4.74 | U30: {=1.5*4} -> 6 | V30: 2.5 | W30: 3.5 | X30: {=7.6/81.1*75.9} -> 7.1127004 | Y30: 5 | Z30: {=7.2*0.71} -> 5.112 | AA30: {=5.1*0.71} -> 3.621 | AB30: 4.9 | AC30: {=6.8*0.75} -> 5.1 | AD30: {=6.6*0.78} -> 5.148 | AE30: 4.2 | AF30: {=7.3*0.73} -> 5.329 | AG30: 5 | AH30: {=6.9*0.73} -> 5.037 | AI30: 2.6 | AJ30: 4.3 | AK30: {=6.1*0.7} -> 4.27 | AL30: 4.3 | AM30: {=3.5*0.695} -> 2.4325 | AQ30: 4.3 | AR30: {=3.6*0.683} -> 2.4588 | AS30: {=6.29*0.71} -> 4.4659
A31: Threonin | B31: 3.3 | C31: {=3.3*0.804} -> 2.6532 | D31: {=4.3*0.79} -> 3.397 | E31: 1.09 | F31: {=2.6*0.784} -> 2.0384 | G31: {=6.4*0.827} -> 5.2928 | H31: {=2.6*0.77} -> 2.002 | I31: {=3.6*0.847} -> 3.0492 | J31: 3.1 | K31: {=3.8*0.82} -> 3.116 | L31: {=3.78*0.82} -> 3.0996 | M31: 3.2 | N31: 2.9 | O31: {=3.7*0.81} -> 2.997 | P31: 2.7 | Q31: {=3.78*0.795} -> 3.0051 | R31: {=8.6*0.79} -> 6.794 | S31: {=3*0.786} -> 2.358 | T31: {=3.6*0.79} -> 2.844 | U31: {=0.8*4} -> 3.2 | V31: 2.9 | W31: 2.4 | X31: {=4.56/81.1*75.9} -> 4.2676202 | Y31: 2.8 | Z31: {=3.3*0.71} -> 2.343 | AA31: {=3*0.71} -> 2.13 | AB31: 2.9 | AC31: {=3.8*0.75} -> 2.85 | AD31: {=4*0.78} -> 3.12 | AE31: 2.7 | AF31: {=3.7*0.73} -> 2.701 | AG31: 2.6 | AH31: {=3.9*0.73} -> 2.847 | AI31: 2.9 | AJ31: 2.6 | AK31: {=3.4*0.7} -> 2.38 | AL31: 2.6 | AM31: {=3.2*0.695} -> 2.224 | AQ31: 2.5 | AR31: {=3.1*0.683} -> 2.1173 | AS31: {=3*0.71} -> 2.13
A32: Phenylalanin | B32: 3.4 | C32: {=4.7} -> 4.7 | D32: {=4.4*0.79} -> 3.476 | E32: 5.1 | F32: {=4.9*0.784} -> 3.8416 | G32: {=3.7*0.827} -> 3.0599 | H32: {=4.4*0.77} -> 3.388 | I32: {=5.6*0.847} -> 4.7432 | J32: 4.7 | K32: {=5.3*0.82} -> 4.346 | L32: {=5.96*0.82} -> 4.8872 | M32: 4.6 | N32: 4.4 | O32: {=5.4*0.81} -> 4.374 | P32: 3.7 | Q32: {=5.96*0.795} -> 4.7382 | R32: {=4.6*0.79} -> 3.634 | S32: {=5.4*0.786} -> 4.2444 | T32: {=5.2*0.79} -> 4.108 | U32: {=1.1*4} -> 4.4 | V32: 4.8 | W32: 3.8 | X32: {=4.18/81.1*75.9} -> 3.9119852 | Y32: 4 | Z32: {=4.8*0.71} -> 3.408 | AA32: {=4.8*0.71} -> 3.408 | AB32: 3.9 | AC32: {=5.5*0.75} -> 4.125 | AD32: {=5.3*0.78} -> 4.134 | AE32: 3.7 | AF32: {=5.4*0.73} -> 3.942 | AG32: {=5.9*0.702} -> 4.1418 | AH32: {=5.6*0.73} -> 4.088 | AI32: 4.8 | AJ32: 3.6 | AK32: {=5*0.7} -> 3.5 | AL32: 3.7 | AM32: {=5.5*0.695} -> 3.8225 | AQ32: 3.4 | AR32: {=5.4*0.683} -> 3.6882 | AS32: {=4.43*0.71} -> 3.1453
A33: Methionin | B33: 2.6 | C33: {=2*0.804} -> 1.608 | D33: {=2.4*0.79} -> 1.896 | E33: 2.5 | F33: {=2.4*0.784} -> 1.8816 | G33: {=3.3*0.827} -> 2.7291 | H33: {=1.3*0.77} -> 1.001 | I33: {=2.1*0.847} -> 1.7787 | J33: 1.2 | K33: {=1.3*0.82} -> 1.066 | L33: {=0.67*0.82} -> 0.5494 | M33: {=1.3*0.75} -> 0.975 | N33: 2.3 | O33: {=1.5*0.81} -> 1.215 | P33: 0.6 | Q33: {=0.67*0.795} -> 0.53265 | R33: {=1.4*0.79} -> 1.106 | S33: {=2.3*0.786} -> 1.8078 | T33: {=2.4*0.79} -> 1.896 | U33: {=0.2*4} -> 0.8 | V33: 1.5 | W33: 1.2 | X33: {=0.35/81.1*75.9} -> 0.32755857 | Y33: 0.94 | Z33: {=2.5*0.71} -> 1.775 | AA33: {=1.7*0.71} -> 1.207 | AB33: 1.1 | AC33: {=1.2*0.75} -> 0.9 | AD33: {=1.1*0.78} -> 0.858 | AE33: 1.8 | AF33: {=1.6*0.73} -> 1.168 | AG33: 0.98 | AH33: {=1.2*0.73} -> 0.876 | AI33: 1.5 | AJ33: 0.9 | AK33: {=1.2*0.7} -> 0.84 | AL33: 0.8 | AM33: {=1.6*0.695} -> 1.112 | AQ33: 0.7 | AR33: {=1.5*0.683} -> 1.0245 | AS33: {=0.96*0.71} -> 0.6816
A34: Tryptophan | B34: 1.3 | C34: {=2*0.804} -> 1.608 | D34: {=1.5*0.79} -> 1.185 | E34: 1.09 | F34: {=1.5*0.784} -> 1.176 | G34: {=0.8*0.827} -> 0.6616 | H34: {=3.7*0.77} -> 2.849 | I34: {=1.4*0.847} -> 1.1858 | J34: 0.9 | K34: {=1.3*0.82} -> 1.066 | L34: {=1.46*0.82} -> 1.1972 | M34: 0.9 | N34: 1.5 | O34: {=1*0.81} -> 0.81 | P34: 0.7 | Q34: {=1.46*0.795} -> 1.1607 | R34: {=0.8*0.79} -> 0.632 | S34: {=1.5*0.786} -> 1.179 | T34: {=0.8*0.79} -> 0.632 | U34: {=0.2*4} -> 0.8 | V34: 3.3 | W34: 1.1 | X34: {=1.24/81.1*75.9} -> 1.1604932 | Y34: 0.8 | Z34: {=1.8*0.71} -> 1.278 | AA34: {=1.3*0.71} -> 0.923 | AB34: 1.1 | AC34: {=1.2*0.75} -> 0.9 | AD34: {=1*0.78} -> 0.78 | AE34: 0.71 | AF34: {=1*0.73} -> 0.73 | AG34: 0.74 | AH34: {=1*0.73} -> 0.73 | AI34: 1.1 | AJ34: 0.8 | AK34: {=1.1*0.7} -> 0.77 | AL34: 0.7 | AM34: {=1.3*0.695} -> 0.9035 | AQ34: 0.7 | AR34: {=1.2*0.683} -> 0.8196 | AS34: {=0.97*0.71} -> 0.6887
A35: Histidin | B35: 1.6 | C35: {=2.3*0.804} -> 1.8492 | D35: {=2.2*0.79} -> 1.738 | E35: 2.1 | F35: {=2.1*0.784} -> 1.6464 | G35: {=2*0.827} -> 1.654 | H35: {=1.8*0.77} -> 1.386 | I35: {=2.5*0.847} -> 2.1175 | J35: 2.3 | K35: {=2.6*0.82} -> 2.132 | L35: {=2.25*0.82} -> 1.845 | M35: 2.3 | N35: 3 | O35: {=2.4} -> 2.4 | P35: 1.8 | Q35: {=2.25*0.795} -> 1.78875 | R35: {=3.2*0.79} -> 2.528 | S35: {=2.4*0.786} -> 1.8864 | T35: {=2.2*0.79} -> 1.738 | U35: {=0.5*4} -> 2 | V35: 1.7 | W35: 2.1 | X35: {=2.16/81.1*75.9} -> 2.0215043 | Y35: 3.8 | Z35: {=2.3*0.71} -> 1.633 | AA35: {=2.1*0.71} -> 1.491 | AB35: 1.8 | AC35: {=2.6*0.75} -> 1.95 | AD35: {=2.8*0.78} -> 2.184 | AE35: 1.6 | AF35: {=2.3*0.73} -> 1.679 | AG35: 1.8 | AH35: {=2.5*0.73} -> 1.825 | AI35: 1.7 | AJ35: 1.8 | AK35: {=2.3*0.7} -> 1.61 | AL35: 1.8 | AM35: {=2.5*0.695} -> 1.7375 | AQ35: 1.7 | AR35: {=2.5*0.683} -> 1.7075 | AS35: {=2.14*0.71} -> 1.5194
A36: EAA | B36: {=SUM(B29:B35)} -> 40.2 | C36: {=SUM(C29:C35)} -> 36.2972 | D36: {=SUM(D29:D35)} -> 37.288 | E36: {=SUM(E29:E35)} -> 34.82 | F36: {=SUM(F29:F35)} -> 35.2016 | G36: {=SUM(G29:G35)} -> 42.5078 | H36: {=SUM(H29:H35)} -> 39.27 | I36: {=SUM(I29:I35)} -> 31.9319 | ... AU36: {=SUM(AU29:AU35)} -> 0
A37: Tyrosin | B37: 2.4 | C37: {=3.4*0.804} -> 2.7336 | D37: {=3.2*0.79} -> 2.528 | F37: {=3.3*0.784} -> 2.5872 | G37: {=2.5*0.827} -> 2.0675 | H37: {=1.4*0.77} -> 1.078 | I37: {=5.6*0.847} -> 4.7432 | J37: 3.5 | K37: {=3.8*0.82} -> 3.116 | L37: {=3.78*0.82} -> 3.0996 | M37: 2.8 | N37: 3.1 | O37: {=4*0.81} -> 3.24 | P37: 2.4 | Q37: {=3.78*0.795} -> 3.0051 | R37: {=3.5*0.79} -> 2.765 | S37: {=3.6*0.786} -> 2.8296 | T37: {=2.7*0.79} -> 2.133 | U37: {=0.7*4} -> 2.8 | V37: 3.3 | W37: 2.8 | X37: {=3.35/81.1*75.9} -> 3.1352035 | Y37: 3 | Z37: {=3.5*0.71} -> 2.485 | AA37: {=3.1*0.71} -> 2.201 | AB37: 3 | AC37: {=3.8*0.75} -> 2.85 | AD37: {=3.7*0.78} -> 2.886 | AE37: 3.1 | AF37: {=4.1*0.73} -> 2.993 | AG37: 2.8 | AH37: {=4*0.73} -> 2.92 | AI37: 3.3 | AJ37: 2.6 | AK37: {=2.4*0.7} -> 1.68 | AL37: 2.7 | AM37: {=4.9*0.695} -> 3.4055 | AQ37: 2.5 | AR37: {=4.1*0.683} -> 2.8003 | AS37: {=3.14*0.71} -> 2.2294
A38: Arginin | B38: 5.6 | C38: {=8.5*0.804} -> 6.834 | D38: {=7.8*0.79} -> 6.162 | F38: {=7.8*0.784} -> 6.1152 | G38: {=6.3*0.827} -> 5.2101 | H38: {=6.2*0.77} -> 4.774 | I38: {=8.3*0.847} -> 7.0301 | J38: 6.9 | K38: {=7.8*0.82} -> 6.396 | L38: {=9.46*0.82} -> 7.7572 | M38: 6.6 | N38: 7 | O38: {=8.6*0.81} -> 6.966 | P38: 6.8 | Q38: {=9.46*0.795} -> 7.5207 | R38: {=7.8*0.79} -> 6.162 | S38: {=8.5*0.786} -> 6.681 | T38: {=8.1*0.79} -> 6.399 | U38: {=1.9*4} -> 7.6 | V38: 4 | W38: 5.1 | X38: {=5.07/81.1*75.9} -> 4.7449199 | Y38: 6.7 | Z38: {=7.9*0.71} -> 5.609 | AA38: {=7.6*0.71} -> 5.396 | AB38: 6.5 | AC38: {=8.3*0.75} -> 6.225 | AD38: {=8*0.78} -> 6.24 | AE38: 7.8 | AF38: {=8.8*0.73} -> 6.424 | AG38: 6.1 | AH38: {=8.7*0.73} -> 6.351 | AI38: 4 | AJ38: 5.6 | AK38: {=10.7*0.7} -> 7.49 | AL38: 6.2 | AM38: {=9.9*0.695} -> 6.8805 | AQ38: 5.6 | AR38: {=11.6*0.683} -> 7.9228 | AS38: {=8.43*0.71} -> 5.9853
A39: Glutaminsäure | B39: 11.2 | C39: {=16.8*0.804} -> 13.5072 | D39: {=16.1*0.79} -> 12.719 | F39: {=16.4*0.784} -> 12.8576 | G39: {=18.4*0.827} -> 15.2168 | H39: {=18.3*0.77} -> 14.091 | I39: {=17.5*0.847} -> 14.8225 | J39: 17.6 | K39: {=19.1*0.82} -> 15.662 | L39: {=18.27*0.82} -> 14.9814 | M39: 16.1 | N39: 13.5 | O39: {=17.9*0.81} -> 14.499 | P39: 13.6 | Q39: {=18.27*0.795} -> 14.52465 | R39: {=14.8*0.79} -> 11.692 | S39: {=17.8*0.786} -> 13.9908 | T39: {=16.8*0.79} -> 13.272 | U39: {=3.7*4} -> 14.8 | V39: 21.5 | W39: 10.9 | X39: {=10.08/81.1*75.9} -> 9.4336868 | Y39: 13.5 | Z39: {=15.8*0.71} -> 11.218 | AA39: {=15.8*0.71} -> 11.218 | AB39: 14.3 | AC39: {=18.3*0.75} -> 13.725 | AD39: {=18.5} -> 18.5 | AE39: 11.6 | AF39: {=17.4*0.73} -> 12.702 | AG39: 11.9 | AH39: {=17*0.73} -> 12.41 | AI39: 21.7 | AJ39: 13.7 | AK39: {=17.9*0.7} -> 12.53 | AL39: 14.4 | AM39: {=18.7*0.695} -> 12.9965 | AQ39: 12.1 | AR39: {=20.2*0.683} -> 13.7966 | AS39: {=15.57*0.71} -> 11.0547
A40: SEAA | B40: {=SUM(B37:B39)} -> 19.2 | C40: {=SUM(C37:C39)} -> 23.0748 | D40: {=SUM(D37:D39)} -> 21.409 | F40: {=SUM(F37:F39)} -> 21.56 | G40: {=SUM(G37:G39)} -> 22.4944 | H40: {=SUM(H37:H39)} -> 19.943 | I40: {=SUM(I37:I39)} -> 26.5958 | J40: {=SUM(J37:J39)} -> 28 | K40: {=SUM(K37:K39)} -> 25.174 | L40: {=SUM(L37:L39)} -> 25.8382 | M40: {=SUM(M37:M39)} -> 25.5 | ... AU40: {=SUM(AU37:AU39)} -> 0
A41: Prolin | B41: 3.2 | C41: {=4.2*0.804} -> 3.3768 | D41: {=4.9*0.79} -> 3.871 | F41: {=3.9*0.784} -> 3.0576 | G41: {=3.2*0.827} -> 2.6464 | H41: {=3.7*0.77} -> 2.849 | I41: {=4.5*0.847} -> 3.8115 | J41: 4.6 | K41: {=5.1} -> 5.1 | L41: {=1.72*0.82} -> 1.4104 | M41: 4.5 | N41: 3.5 | O41: {=4.5*0.81} -> 3.645 | P41: 3.2 | Q41: {=1.72*0.795} -> 1.3674 | R41: {=3.7*0.79} -> 2.923 | S41: {=4.3*0.786} -> 3.3798 | T41: {=4*0.79} -> 3.16 | U41: {=0.7*4} -> 2.8 | V41: 9.2 | W41: 6.2 | X41: {=3.8/81.1*75.9} -> 3.5563502 | Y41: 4 | Z41: {=3.9*0.71} -> 2.769 | AA41: {=3.8*0.71} -> 2.698 | AB41: 3.6 | AC41: {=4.8*0.75} -> 3.6 | AD41: {=5.1*0.78} -> 3.978 | AE41: 2.9 | AF41: {=4.3*0.73} -> 3.139 | AG41: 3.1 | AH41: {=4.5*0.73} -> 3.285 | AI41: 9.3 | AJ41: 3.4 | AK41: {=4*0.7} -> 2.8 | AL41: 3.6 | AM41: {=4.5*0.695} -> 3.1275 | AQ41: 3.4 | AR41: {=4.2*0.683} -> 2.8686 | AS41: {=4*0.71} -> 2.84
A42: Glycin | B42: 2.6 | C42: {=3.8*0.804} -> 3.0552 | D42: {=3.6*0.79} -> 2.844 | F42: {=4.1*0.784} -> 3.2144 | G42: {=2.9*0.827} -> 2.3983 | H42: {=3.1*0.77} -> 2.387 | I42: {=4.3*0.847} -> 3.6421 | J42: 3.6 | K42: {=4.2*0.82} -> 3.444 | L42: {=4*0.82} -> 3.28 | M42: 3.5 | N42: 3.2 | O42: {=4.2*0.81} -> 3.402 | P42: 3 | Q42: {=4*0.795} -> 3.18 | R42: {=3.5*0.79} -> 2.765 | S42: {=4.5*0.786} -> 3.537 | T42: {=4*0.79} -> 3.16 | U42: {=0.8*4} -> 3.2 | V42: 3.5 | W42: 2.9 | X42: {=3.56/81.1*75.9} -> 3.3317386 | Y42: 3 | Z42: {=3.9*0.71} -> 2.769 | AA42: {=3.8*0.71} -> 2.698 | AB42: 3.3 | AC42: {=4.2*0.75} -> 3.15 | AD42: {=4.1*0.78} -> 3.198 | AE42: 2.7 | AF42: {=4.1*0.73} -> 2.993 | AG42: 3 | AH42: {=4.1*0.73} -> 2.993 | AI42: 3.5 | AJ42: 3 | AK42: {=4.5*0.7} -> 3.15 | AL42: 3.2 | AM42: {=5.3*0.695} -> 3.6835 | AQ42: 2.8 | AR42: {=5.4*0.683} -> 3.6882 | AS42: {=3.86*0.71} -> 2.7406
A43: Cystein | B43: 0.71 | C43: {=1.2*0.804} -> 0.9648 | D43: {=1.4*0.79} -> 1.106 | F43: {=3.4*0.784} -> 2.6656 | G43: {=0.8*0.827} -> 0.6616 | H43: {=0} -> 0 | I43: {=3.2*0.847} -> 2.7104 | J43: 1.2 | K43: {=1.2*0.82} -> 0.984 | L43: {=0.75*0.82} -> 0.615 | M43: 1.4 | N43: 1 | O43: {=0.9*0.81} -> 0.729 | P43: 0.6 | Q43: {=0.75*0.795} -> 0.59625 | R43: {=0.7*0.79} -> 0.553 | S43: {=3.2*0.786} -> 2.5152 | T43: {=1.6*0.79} -> 1.264 | U43: {=0.1*4} -> 0.4 | V43: 1.5 | W43: 2 | X43: {=0.53/81.1*75.9} -> 0.49601726 | Y43: 0.8 | Z43: {=1.6*0.71} -> 1.136 | AA43: {=2.4*0.71} -> 1.704 | AB43: 0.9 | AC43: {=1.1*0.75} -> 0.825 | AD43: {=1.4*0.78} -> 1.092 | AE43: 0.96 | AF43: {=0.9*0.73} -> 0.657 | AG43: 1.2 | AH43: {=1.2*0.73} -> 0.876 | AI43: 1.5 | AJ43: 1 | AK43: {=1.1*0.7} -> 0.77 | AL43: 0.9 | AM43: {=2.4*0.695} -> 1.668 | AQ43: 0.7 | AR43: {=1.8*0.683} -> 1.2294 | AS43: {=0.87*0.71} -> 0.6177
A44: Asparaginsäure | B44: 6.9 | C44: {=10*0.804} -> 8.04 | D44: {=9.2*0.79} -> 7.268 | F44: {=8.5*0.784} -> 6.664 | G44: {=8*0.827} -> 6.616 | H44: {=13.1*0.77} -> 10.087 | I44: {=8.4*0.847} -> 7.1148 | J44: 10.4 | K44: {=11.7*0.82} -> 9.594 | L44: {=10.65*0.82} -> 8.733 | M44: 9 | N44: 9.1 | O44: {=10.8*0.81} -> 8.748 | P44: 8.6 | Q44: {=10.65*0.795} -> 8.46675 | R44: {=9*0.79} -> 7.11 | S44: {=9.7*0.786} -> 7.6242 | T44: {=10.1*0.79} -> 7.979 | U44: {=2.2*4} -> 8.8 | V44: 7.2 | W44: 6.8 | X44: {=8.99/81.1*75.9} -> 8.4135758 | Y44: 8.1 | Z44: {=10.4*0.71} -> 7.384 | AA44: {=9.3*0.71} -> 6.603 | AB44: 8.8 | AC44: {=11.4*0.75} -> 8.55 | AD44: {=11.8*0.78} -> 9.204 | AE44: 6.6 | AF44: {=10.6*0.73} -> 7.738 | AG44: 7.7 | AH44: {=11.3*0.73} -> 8.249 | AI44: 7.3 | AJ44: 7.9 | AK44: {=10.5*0.7} -> 7.35 | AL44: 8.1 | AM44: {=9.6*0.695} -> 6.672 | AQ44: 7.2 | AR44: {=9.1*0.683} -> 6.2153 | AS44: {=8.86*0.71} -> 6.2906
A45: Serin | B45: 3.3 | C45: {=4.8*0.804} -> 3.8592 | D45: {=4.3*0.79} -> 3.397 | F45: {=3.9*0.784} -> 3.0576 | G45: {=3.4*0.827} -> 2.8118 | H45: {=3.2*0.77} -> 2.464 | I45: {=4.8*0.847} -> 4.0656 | J45: 4.8 | K45: {=5.3*0.82} -> 4.346 | L45: {=5.15*0.82} -> 4.223 | M45: 4.2 | N45: 4.1 | O45: {=5.1*0.81} -> 4.131 | P45: 4 | Q45: {=5.15*0.795} -> 4.09425 | R45: {=4.4*0.79} -> 3.476 | S45: {=4.4*0.786} -> 3.4584 | T45: {=6.5*0.79} -> 5.135 | U45: {=1.1*4} -> 4.4 | V45: 3.6 | W45: 4 | X45: {=4.44/81.1*75.9} -> 4.1553144 | Y45: 3.8 | Z45: {=4.4*0.71} -> 3.124 | AA45: {=4.1*0.71} -> 2.911 | AB45: 3.9 | AC45: {=5.1*0.75} -> 3.825 | AD45: {=5*0.78} -> 3.9 | AE45: 3.2 | AF45: {=5.2*0.73} -> 3.796 | AG45: 3.6 | AH45: {=5.3*0.73} -> 3.869 | AI45: 3.6 | AJ45: 3.5 | AK45: {=6.1*0.7} -> 4.27 | AL45: 3.5 | AM45: {=4.7*0.695} -> 3.2665 | AQ45: 3.4 | AR45: {=4.3*0.683} -> 2.9369 | AS45: {=5*0.71} -> 3.55
A46: Alanin | B46: 2.7 | C46: {=4.2*0.804} -> 3.3768 | D46: {=3.9*0.79} -> 3.081 | F46: {=4.8*0.784} -> 3.7632 | G46: {=3*0.827} -> 2.481 | H46: {=0} -> 0 | I46: {=5.7*0.847} -> 4.8279 | J46: 3.6 | K46: {=4.4*0.82} -> 3.608 | L46: {=4.57*0.82} -> 3.7474 | M46: 3.5 | N46: 3.4 | O46: {=4.6*0.81} -> 3.726 | P46: 3.2 | Q46: {=4.57*0.795} -> 3.63315 | R46: {=4*0.79} -> 3.16 | S46: {=5.1*0.786} -> 4.0086 | T46: {=5*0.79} -> 3.95 | U46: {=0.9*4} -> 3.6 | V46: 3.7 | W46: 2.8 | X46: {=4.72/81.1*75.9} -> 4.4173613 | Y46: 3.3 | Z46: {=8*0.71} -> 5.68 | AA46: {=4.4*0.71} -> 3.124 | AB46: 3.3 | AC46: {=4.3*0.75} -> 3.225 | AD46: {=4.2*0.78} -> 3.276 | AE46: 3.2 | AF46: {=4.7*0.73} -> 3.431 | AG46: 3.2 | AH46: {=4.5*0.73} -> 3.285 | AI46: 3.7 | AJ46: 3.1 | AK46: {=4.4*0.7} -> 3.08 | AL46: 3.2 | AM46: {=5.1*0.695} -> 3.5445 | AQ46: 2.9 | AR46: {=4.9*0.683} -> 3.3467 | AS46: {=3.86*0.71} -> 2.7406
A47: Gesamt | B47: {=B36+B40+B41+B42+B43+B44+B45+B46} -> 78.81 | C47: {=C36+C40+C41+C42+C43+C44+C45+C46} -> 82.0448 | D47: {=D36+D40+D41+D42+D43+D44+D45+D46} -> 80.264 | F47: {=F36+F40+F41+F42+F43+F44+F45+F46} -> 79.184 | G47: {=G36+G40+G41+G42+G43+G44+G45+G46} -> 82.6173 | H47: {=H36+H40+H41+H42+H43+H44+H45+H46} -> 77 | I47: {=I36+I40+I41+I42+I43+I44+I45+I46} -> 84.7 | J47: {=J36+J40+J41+J42+J43+J44+J45+J46} -> 88.4 | K47: {=K36+K40+K41+K42+K43+K44+K45+K46} -> 84.148 | L47: {=L36+L40+L41+L42+L43+L44+L45+L46} -> 81.9918 | M47: {=M36+M40+M41+M42+M43+M44+M45+M46} -> 83.975 | ... AU47: {=AU36+AU40+AU41+AU42+AU43+AU44+AU45+AU46} -> 0
A49: Bewertung
A50: Eiweißgehalt (25%) | B50: {=VLOOKUP(B23,'S-Verweis'!$C$3:$D$13,2,TRUE)} -> 9 | C50: {=VLOOKUP(C23,'S-Verweis'!$C$3:$D$13,2,TRUE)} -> 9 | D50: {=VLOOKUP(D23,'S-Verweis'!$C$3:$D$13,2,TRUE)} -> 8 | E50: {=VLOOKUP(E23,'S-Verweis'!$C$3:$D$13,2,TRUE)} -> 9 | F50: {=VLOOKUP(F23,'S-Verweis'!$C$3:$D$13,2,TRUE)} -> 8 | G50: {=VLOOKUP(G23,'S-Verweis'!$C$3:$D$13,2,TRUE)} -> 10 | H50: {=VLOOKUP(H23,'S-Verweis'!$C$3:$D$13,2,TRUE)} -> 7 | I50: {=VLOOKUP(I23,'S-Verweis'!$C$3:$D$13,2,TRUE)} -> 10 | ... AU50: {=VLOOKUP(AU23,'S-Verweis'!$C$3:$D$13,2,TRUE)} -> 7
A51: EAA Gehalt (20%) | B51: {=VLOOKUP(B36,'S-Verweis'!$C$15:$D$25,2,TRUE)} -> 10 | C51: {=VLOOKUP(C36,'S-Verweis'!$C$15:$D$25,2,TRUE)} -> 10 | D51: {=VLOOKUP(D36,'S-Verweis'!$C$15:$D$25,2,TRUE)} -> 10 | E51: {=VLOOKUP(E36,'S-Verweis'!$C$15:$D$25,2,TRUE)} -> 9 | F51: {=VLOOKUP(F36,'S-Verweis'!$C$15:$D$25,2,TRUE)} -> 9 | G51: {=VLOOKUP(G36,'S-Verweis'!$C$15:$D$25,2,TRUE)} -> 10 | H51: {=VLOOKUP(H36,'S-Verweis'!$C$15:$D$25,2,TRUE)} -> 10 | I51: {=VLOOKUP(I36,'S-Verweis'!$C$15:$D$25,2,TRUE)} -> 7 | ... AU51: {=VLOOKUP(AU36,'S-Verweis'!$C$15:$D$25,2,TRUE)} -> 0
A52: BCAA Gehalt (15%) | B52: {=VLOOKUP(B29,'S-Verweis'!$C$27:$D$37,2,TRUE)} -> 10 | C52: {=VLOOKUP(C29,'S-Verweis'!$C$27:$D$37,2,TRUE)} -> 9 | D52: {=VLOOKUP(D29,'S-Verweis'!$C$27:$D$37,2,TRUE)} -> 10 | E52: {=VLOOKUP(E29,'S-Verweis'!$C$27:$D$37,2,TRUE)} -> 9 | F52: {=VLOOKUP(F29,'S-Verweis'!$C$27:$D$37,2,TRUE)} -> 9 | G52: {=VLOOKUP(G29,'S-Verweis'!$C$27:$D$37,2,TRUE)} -> 10 | H52: {=VLOOKUP(H29,'S-Verweis'!$C$27:$D$37,2,TRUE)} -> 10 | I52: {=VLOOKUP(I29,'S-Verweis'!$C$27:$D$37,2,TRUE)} -> 8 | ... AU52: {=VLOOKUP(AU29,'S-Verweis'!$C$27:$D$37,2,TRUE)} -> 0
A53: Lysin Gehalt (10%) | B53: {=VLOOKUP(B30,'S-Verweis'!$C$39:$D$49,2,TRUE)} -> 10 | C53: {=VLOOKUP(C30,'S-Verweis'!$C$39:$D$49,2,TRUE)} -> 10 | D53: {=VLOOKUP(D30,'S-Verweis'!$C$39:$D$49,2,TRUE)} -> 10 | E53: {=VLOOKUP(E30,'S-Verweis'!$C$39:$D$49,2,TRUE)} -> 8 | F53: {=VLOOKUP(F30,'S-Verweis'!$C$39:$D$49,2,TRUE)} -> 10 | G53: {=VLOOKUP(G30,'S-Verweis'!$C$39:$D$49,2,TRUE)} -> 6 | H53: {=VLOOKUP(H30,'S-Verweis'!$C$39:$D$49,2,TRUE)} -> 7 | I53: {=VLOOKUP(I30,'S-Verweis'!$C$39:$D$49,2,TRUE)} -> 3 | ... AU53: {=VLOOKUP(AU30,'S-Verweis'!$C$39:$D$49,2,TRUE)} -> 0
A54: Methionin Gehalt (10%) | B54: {=VLOOKUP(B33,'S-Verweis'!$C$51:$D$62,2,TRUE)} -> 10 | C54: {=VLOOKUP(C33,'S-Verweis'!$C$51:$D$62,2,TRUE)} -> 10 | D54: {=VLOOKUP(D33,'S-Verweis'!$C$51:$D$62,2,TRUE)} -> 10 | E54: {=VLOOKUP(E33,'S-Verweis'!$C$51:$D$62,2,TRUE)} -> 10 | F54: {=VLOOKUP(F33,'S-Verweis'!$C$51:$D$62,2,TRUE)} -> 10 | G54: {=VLOOKUP(G33,'S-Verweis'!$C$51:$D$62,2,TRUE)} -> 10 | H54: {=VLOOKUP(H33,'S-Verweis'!$C$51:$D$62,2,TRUE)} -> 5 | I54: {=VLOOKUP(I33,'S-Verweis'!$C$51:$D$62,2,TRUE)} -> 10 | ... AU54: {=VLOOKUP(AU33,'S-Verweis'!$C$51:$D$62,2,TRUE)} -> 0
A55: Tryptophan Gehalt (10%) | B55: {=VLOOKUP(B34,'S-Verweis'!$C$64:$D$72,2,TRUE)} -> 10 | C55: {=VLOOKUP(C34,'S-Verweis'!$C$64:$D$72,2,TRUE)} -> 10 | D55: {=VLOOKUP(D34,'S-Verweis'!$C$64:$D$72,2,TRUE)} -> 10 | E55: {=VLOOKUP(E34,'S-Verweis'!$C$64:$D$72,2,TRUE)} -> 10 | F55: {=VLOOKUP(F34,'S-Verweis'!$C$64:$D$72,2,TRUE)} -> 10 | G55: {=VLOOKUP(G34,'S-Verweis'!$C$64:$D$72,2,TRUE)} -> 3 | H55: {=VLOOKUP(H34,'S-Verweis'!$C$64:$D$72,2,TRUE)} -> 10 | I55: {=VLOOKUP(I34,'S-Verweis'!$C$64:$D$72,2,TRUE)} -> 10 | ... AU55: {=VLOOKUP(AU34,'S-Verweis'!$C$64:$D$72,2,TRUE)} -> 0
A56: Zucker Gehalt (5%) | B56: {=VLOOKUP(B22,'S-Verweis'!$C$74:$D$85,2,TRUE)} -> 9 | C56: {=VLOOKUP(C22,'S-Verweis'!$C$74:$D$85,2,TRUE)} -> 9 | D56: {=VLOOKUP(D22,'S-Verweis'!$C$74:$D$85,2,TRUE)} -> 9 | E56: {=VLOOKUP(E22,'S-Verweis'!$C$74:$D$85,2,TRUE)} -> 10 | F56: {=VLOOKUP(F22,'S-Verweis'!$C$74:$D$85,2,TRUE)} -> 10 | G56: {=VLOOKUP(G22,'S-Verweis'!$C$74:$D$85,2,TRUE)} -> 10 | H56: {=VLOOKUP(H22,'S-Verweis'!$C$74:$D$85,2,TRUE)} -> 8 | I56: {=VLOOKUP(I22,'S-Verweis'!$C$74:$D$85,2,TRUE)} -> 8 | ... AU56: {=VLOOKUP(AU22,'S-Verweis'!$C$74:$D$85,2,TRUE)} -> 10
A57: Gesättigte Fettsäuren (5%) | B57: {=VLOOKUP(B20,'S-Verweis'!$C$87:$D$96,2,TRUE)} -> 7 | C57: {=VLOOKUP(C20,'S-Verweis'!$C$87:$D$96,2,TRUE)} -> 7 | D57: {=VLOOKUP(D20,'S-Verweis'!$C$87:$D$96,2,TRUE)} -> 7 | E57: {=VLOOKUP(E20,'S-Verweis'!$C$87:$D$96,2,TRUE)} -> 9 | F57: {=VLOOKUP(F20,'S-Verweis'!$C$87:$D$96,2,TRUE)} -> 7 | G57: {=VLOOKUP(G20,'S-Verweis'!$C$87:$D$96,2,TRUE)} -> 10 | H57: {=VLOOKUP(H20,'S-Verweis'!$C$87:$D$96,2,TRUE)} -> 10 | I57: {=VLOOKUP(I20,'S-Verweis'!$C$87:$D$96,2,TRUE)} -> 8 | ... AU57: {=VLOOKUP(AU20,'S-Verweis'!$C$87:$D$96,2,TRUE)} -> 7
A58: Gesamt: | B58: {=B50*25+B51*20+B52*15+B53*10+B54*10+B55*10+B56*5+B57*5} -> 955 | C58: {=C50*25+C51*20+C52*15+C53*10+C54*10+C55*10+C56*5+C57*5} -> 940 | D58: {=D50*25+D51*20+D52*15+D53*10+D54*10+D55*10+D56*5+D57*5} -> 930 | E58: {=E50*25+E51*20+E52*15+E53*10+E54*10+E55*10+E56*5+E57*5} -> 915 | F58: {=F50*25+F51*20+F52*15+F53*10+F54*10+F55*10+F56*5+F57*5} -> 900 | G58: {=G50*25+G51*20+G52*15+G53*10+G54*10+G55*10+G56*5+G57*5} -> 890 | H58: {=H50*25+H51*20+H52*15+H53*10+H54*10+H55*10+H56*5+H57*5} -> 835 | I58: {=I50*25+I51*20+I52*15+I53*10+I54*10+I55*10+I56*5+I57*5} -> 820 | ... AU58: {=AU50*25+AU51*20+AU52*15+AU53*10+AU54*10+AU55*10+AU56*5+AU57*5} -> 260

Sheet S-Verweis
A1: S-Verweise für Bewertung
B3: Proteingehalt | C3: Untergrenze | D3: Punkte
C4: 0 | D4: 0
C5: 66 | D5: 2
C6: 68 | D6: 3
C7: 70 | D7: 4
C8: 72 | D8: 5
C9: 74 | D9: 6
C10: 76 | D10: 7
C11: 78 | D11: 8
C12: 80 | D12: 9
C13: 82 | D13: 10
B15: EAA Gehalt | C15: Untergrenze | D15: Punkte
C16: 0 | D16: 0
C17: 24 | D17: 2
C18: 25.5 | D18: 3
C19: 27 | D19: 4
C20: 28.5 | D20: 5
C21: 30 | D21: 6
C22: 31.5 | D22: 7
C23: 33 | D23: 8
C24: 34.5 | D24: 9
C25: 36 | D25: 10
B27: BCAA Gehalt | C27: Untergrenze | D27: Punkte
C28: 0 | D28: 0
C29: 10 | D29: 2
C30: 11 | D30: 3
C31: 12 | D31: 4
C32: 13 | D32: 5
C33: 14 | D33: 6
C34: 15 | D34: 7
C35: 16 | D35: 8
C36: 17 | D36: 9
C37: 18 | D37: 10
B39: Lysin Gehalt | C39: Untergrenze | D39: Punkte
C40: 0 | D40: 0
C41: 2 | D41: 2
C42: 2.5 | D42: 3
C43: 3 | D43: 4
C44: 3.5 | D44: 5
C45: 4 | D45: 6
C46: 4.5 | D46: 7
C47: 5 | D47: 8
C48: 5.5 | D48: 9
C49: 6 | D49: 10
B51: Methionin Gehalt | C51: Untergrenze | D51: Punkte
C52: 0 | D52: 0
C53: 0.6 | D53: 1
C54: 0.7 | D54: 2
C55: 0.8 | D55: 3
C56: 0.9 | D56: 4
C57: 1 | D57: 5
C58: 1.1 | D58: 6
C59: 1.2 | D59: 7
C60: 1.3 | D60: 8
C61: 1.4 | D61: 9
C62: 1.5 | D62: 10
B64: Tryptophan Gehalt | C64: Untergrenze | D64: Punkte
C65: 0 | D65: 0
C66: 0.4 | D66: 1
C67: 0.5 | D67: 2
C68: 0.6 | D68: 3
C69: 0.7 | D69: 4
C70: 0.8 | D70: 6
C71: 0.9 | D71: 8
C72: 1 | D72: 10
B74: Zucker Gehalt | C74: Untergrenze | D74: Punkte
C75: 4.6 | D75: 0
C76: 4.5 | D76: 1
C77: 4 | D77: 2
C78: 3.5 | D78: 3
C79: 3 | D79: 4
C80: 2.5 | D80: 5
C81: 2 | D81: 6
C82: 1.5 | D82: 7
C83: 1 | D83: 8
C84: 0.5 | D84: 9
C85: 0 | D85: 10
B87: Gesättigte Fettsäuren | C87: Untergrenze | D87: Punkte
C88: 3.6 | D88: 0
C89: 3.5 | D89: 2
C90: 3 | D90: 4
C91: 2.5 | D91: 5
C92: 2 | D92: 6
C93: 1.5 | D93: 7
C94: 1 | D94: 8
C95: 0.5 | D95: 9
C96: 0 | D96: 10
